BEGIN:VCALENDAR
VERSION:2.0
PRODID:-//Liberty Bible Church - ECPv6.15.20//NONSGML v1.0//EN
CALSCALE:GREGORIAN
METHOD:PUBLISH
X-ORIGINAL-URL:https://libertybiblechurchky.org
X-WR-CALDESC:Events for Liberty Bible Church
REFRESH-INTERVAL;VALUE=DURATION:PT1H
X-Robots-Tag:noindex
X-PUBLISHED-TTL:PT1H
BEGIN:VTIMEZONE
TZID:America/Kentucky/Louisville
BEGIN:DAYLIGHT
TZOFFSETFROM:-0500
TZOFFSETTO:-0400
TZNAME:EDT
DTSTART:20260308T070000
END:DAYLIGHT
BEGIN:STANDARD
TZOFFSETFROM:-0400
TZOFFSETTO:-0500
TZNAME:EST
DTSTART:20261101T060000
END:STANDARD
BEGIN:DAYLIGHT
TZOFFSETFROM:-0500
TZOFFSETTO:-0400
TZNAME:EDT
DTSTART:20270314T070000
END:DAYLIGHT
BEGIN:STANDARD
TZOFFSETFROM:-0400
TZOFFSETTO:-0500
TZNAME:EST
DTSTART:20271107T060000
END:STANDARD
BEGIN:DAYLIGHT
TZOFFSETFROM:-0500
TZOFFSETTO:-0400
TZNAME:EDT
DTSTART:20280312T070000
END:DAYLIGHT
BEGIN:STANDARD
TZOFFSETFROM:-0400
TZOFFSETTO:-0500
TZNAME:EST
DTSTART:20281105T060000
END:STANDARD
END:VTIMEZONE
BEGIN:VEVENT
DTSTART;TZID=America/Kentucky/Louisville:20270415T190000
DTEND;TZID=America/Kentucky/Louisville:20270415T200000
DTSTAMP:20260424T121204
CREATED:20220922T020346Z
LAST-MODIFIED:20251111T214459Z
UID:10000958-1807815600-1807819200@libertybiblechurchky.org
SUMMARY:Men and Boys’ Bible Study
DESCRIPTION:We continue our study in Biblical Doctrine. All ages of men and boys are welcome.
URL:https://libertybiblechurchky.org/event/men-and-boys-bible-study/2027-04-15/
LOCATION:Liberty Bible Church\, 115 South Main Street\, Crittenden\, KY\, 41030\, United States
CATEGORIES:Men and Boys
ATTACH;FMTTYPE=image/jpeg:https://libertybiblechurchky.org/wp-content/uploads/biblical-doctrine_1600x900.jpg
END:VEVENT
BEGIN:VEVENT
DTSTART;TZID=America/Kentucky/Louisville:20270418T100000
DTEND;TZID=America/Kentucky/Louisville:20270418T113000
DTSTAMP:20260424T121204
CREATED:20241217T032211Z
LAST-MODIFIED:20260210T023118Z
UID:10001952-1808042400-1808047800@libertybiblechurchky.org
SUMMARY:Sunday Morning
DESCRIPTION:We meet as a church on Sunday morning at 10 a.m. Our meeting starts with a brief Scripture reading and prayer. We sing classic and modern hymns of the faith from Hymns of Grace interspersed with an extended reading of Scripture from the Old Testament as well as the New Testament. Our sermons are expository to bring understanding of and obedience to God’s written word. \nOn the first Sunday of the month we share the Lord’s Table and we share a noon meal together on the third Sunday of the month. \nAll ages are welcome to attend and participate. We have an area for parents to work with needy children as well as space for nursing mothers.
URL:https://libertybiblechurchky.org/event/sunday-morning-3/2027-04-18/
LOCATION:Liberty Bible Church\, 115 South Main Street\, Crittenden\, KY\, 41030\, United States
CATEGORIES:Whole Church
ATTACH;FMTTYPE=image/jpeg:https://libertybiblechurchky.org/wp-content/uploads/bible-on-table_1088x612.jpg
END:VEVENT
BEGIN:VEVENT
DTSTART;TZID=America/Kentucky/Louisville:20270421T190000
DTEND;TZID=America/Kentucky/Louisville:20270421T200000
DTSTAMP:20260424T121204
CREATED:20220922T020455Z
LAST-MODIFIED:20251111T205110Z
UID:10000798-1808334000-1808337600@libertybiblechurchky.org
SUMMARY:Prayer Meeting
DESCRIPTION:Let us gather for prayer\, singing\, and encouragement. All ages are welcome to attend and participate.
URL:https://libertybiblechurchky.org/event/prayer-meeting/2027-04-21/
LOCATION:Liberty Bible Church\, 115 South Main Street\, Crittenden\, KY\, 41030\, United States
CATEGORIES:Whole Church
ATTACH;FMTTYPE=image/jpeg:https://libertybiblechurchky.org/wp-content/uploads/pray-hands-on-bible.jpg
END:VEVENT
BEGIN:VEVENT
DTSTART;TZID=America/Kentucky/Louisville:20270425T100000
DTEND;TZID=America/Kentucky/Louisville:20270425T113000
DTSTAMP:20260424T121204
CREATED:20241217T032211Z
LAST-MODIFIED:20260210T023118Z
UID:10001953-1808647200-1808652600@libertybiblechurchky.org
SUMMARY:Sunday Morning
DESCRIPTION:We meet as a church on Sunday morning at 10 a.m. Our meeting starts with a brief Scripture reading and prayer. We sing classic and modern hymns of the faith from Hymns of Grace interspersed with an extended reading of Scripture from the Old Testament as well as the New Testament. Our sermons are expository to bring understanding of and obedience to God’s written word. \nOn the first Sunday of the month we share the Lord’s Table and we share a noon meal together on the third Sunday of the month. \nAll ages are welcome to attend and participate. We have an area for parents to work with needy children as well as space for nursing mothers.
URL:https://libertybiblechurchky.org/event/sunday-morning-3/2027-04-25/
LOCATION:Liberty Bible Church\, 115 South Main Street\, Crittenden\, KY\, 41030\, United States
CATEGORIES:Whole Church
ATTACH;FMTTYPE=image/jpeg:https://libertybiblechurchky.org/wp-content/uploads/bible-on-table_1088x612.jpg
END:VEVENT
BEGIN:VEVENT
DTSTART;TZID=America/Kentucky/Louisville:20270428T190000
DTEND;TZID=America/Kentucky/Louisville:20270428T200000
DTSTAMP:20260424T121204
CREATED:20220922T020455Z
LAST-MODIFIED:20251111T205110Z
UID:10000799-1808938800-1808942400@libertybiblechurchky.org
SUMMARY:Prayer Meeting
DESCRIPTION:Let us gather for prayer\, singing\, and encouragement. All ages are welcome to attend and participate.
URL:https://libertybiblechurchky.org/event/prayer-meeting/2027-04-28/
LOCATION:Liberty Bible Church\, 115 South Main Street\, Crittenden\, KY\, 41030\, United States
CATEGORIES:Whole Church
ATTACH;FMTTYPE=image/jpeg:https://libertybiblechurchky.org/wp-content/uploads/pray-hands-on-bible.jpg
END:VEVENT
BEGIN:VEVENT
DTSTART;TZID=America/Kentucky/Louisville:20270429T190000
DTEND;TZID=America/Kentucky/Louisville:20270429T200000
DTSTAMP:20260424T121204
CREATED:20220922T020346Z
LAST-MODIFIED:20251111T214459Z
UID:10000959-1809025200-1809028800@libertybiblechurchky.org
SUMMARY:Men and Boys’ Bible Study
DESCRIPTION:We continue our study in Biblical Doctrine. All ages of men and boys are welcome.
URL:https://libertybiblechurchky.org/event/men-and-boys-bible-study/2027-04-29/
LOCATION:Liberty Bible Church\, 115 South Main Street\, Crittenden\, KY\, 41030\, United States
CATEGORIES:Men and Boys
ATTACH;FMTTYPE=image/jpeg:https://libertybiblechurchky.org/wp-content/uploads/biblical-doctrine_1600x900.jpg
END:VEVENT
BEGIN:VEVENT
DTSTART;TZID=America/Kentucky/Louisville:20270502T100000
DTEND;TZID=America/Kentucky/Louisville:20270502T113000
DTSTAMP:20260424T121204
CREATED:20241217T032211Z
LAST-MODIFIED:20260210T023118Z
UID:10001954-1809252000-1809257400@libertybiblechurchky.org
SUMMARY:Sunday Morning
DESCRIPTION:We meet as a church on Sunday morning at 10 a.m. Our meeting starts with a brief Scripture reading and prayer. We sing classic and modern hymns of the faith from Hymns of Grace interspersed with an extended reading of Scripture from the Old Testament as well as the New Testament. Our sermons are expository to bring understanding of and obedience to God’s written word. \nOn the first Sunday of the month we share the Lord’s Table and we share a noon meal together on the third Sunday of the month. \nAll ages are welcome to attend and participate. We have an area for parents to work with needy children as well as space for nursing mothers.
URL:https://libertybiblechurchky.org/event/sunday-morning-3/2027-05-02/
LOCATION:Liberty Bible Church\, 115 South Main Street\, Crittenden\, KY\, 41030\, United States
CATEGORIES:Whole Church
ATTACH;FMTTYPE=image/jpeg:https://libertybiblechurchky.org/wp-content/uploads/bible-on-table_1088x612.jpg
END:VEVENT
BEGIN:VEVENT
DTSTART;TZID=America/Kentucky/Louisville:20270505T190000
DTEND;TZID=America/Kentucky/Louisville:20270505T200000
DTSTAMP:20260424T121204
CREATED:20220922T020455Z
LAST-MODIFIED:20251111T205110Z
UID:10000800-1809543600-1809547200@libertybiblechurchky.org
SUMMARY:Prayer Meeting
DESCRIPTION:Let us gather for prayer\, singing\, and encouragement. All ages are welcome to attend and participate.
URL:https://libertybiblechurchky.org/event/prayer-meeting/2027-05-05/
LOCATION:Liberty Bible Church\, 115 South Main Street\, Crittenden\, KY\, 41030\, United States
CATEGORIES:Whole Church
ATTACH;FMTTYPE=image/jpeg:https://libertybiblechurchky.org/wp-content/uploads/pray-hands-on-bible.jpg
END:VEVENT
BEGIN:VEVENT
DTSTART;TZID=America/Kentucky/Louisville:20270509T100000
DTEND;TZID=America/Kentucky/Louisville:20270509T113000
DTSTAMP:20260424T121204
CREATED:20241217T032211Z
LAST-MODIFIED:20260210T023118Z
UID:10001955-1809856800-1809862200@libertybiblechurchky.org
SUMMARY:Sunday Morning
DESCRIPTION:We meet as a church on Sunday morning at 10 a.m. Our meeting starts with a brief Scripture reading and prayer. We sing classic and modern hymns of the faith from Hymns of Grace interspersed with an extended reading of Scripture from the Old Testament as well as the New Testament. Our sermons are expository to bring understanding of and obedience to God’s written word. \nOn the first Sunday of the month we share the Lord’s Table and we share a noon meal together on the third Sunday of the month. \nAll ages are welcome to attend and participate. We have an area for parents to work with needy children as well as space for nursing mothers.
URL:https://libertybiblechurchky.org/event/sunday-morning-3/2027-05-09/
LOCATION:Liberty Bible Church\, 115 South Main Street\, Crittenden\, KY\, 41030\, United States
CATEGORIES:Whole Church
ATTACH;FMTTYPE=image/jpeg:https://libertybiblechurchky.org/wp-content/uploads/bible-on-table_1088x612.jpg
END:VEVENT
BEGIN:VEVENT
DTSTART;TZID=America/Kentucky/Louisville:20270512T190000
DTEND;TZID=America/Kentucky/Louisville:20270512T200000
DTSTAMP:20260424T121204
CREATED:20220922T020455Z
LAST-MODIFIED:20251111T205110Z
UID:10000801-1810148400-1810152000@libertybiblechurchky.org
SUMMARY:Prayer Meeting
DESCRIPTION:Let us gather for prayer\, singing\, and encouragement. All ages are welcome to attend and participate.
URL:https://libertybiblechurchky.org/event/prayer-meeting/2027-05-12/
LOCATION:Liberty Bible Church\, 115 South Main Street\, Crittenden\, KY\, 41030\, United States
CATEGORIES:Whole Church
ATTACH;FMTTYPE=image/jpeg:https://libertybiblechurchky.org/wp-content/uploads/pray-hands-on-bible.jpg
END:VEVENT
BEGIN:VEVENT
DTSTART;TZID=America/Kentucky/Louisville:20270513T190000
DTEND;TZID=America/Kentucky/Louisville:20270513T200000
DTSTAMP:20260424T121204
CREATED:20220922T020346Z
LAST-MODIFIED:20251111T214459Z
UID:10000960-1810234800-1810238400@libertybiblechurchky.org
SUMMARY:Men and Boys’ Bible Study
DESCRIPTION:We continue our study in Biblical Doctrine. All ages of men and boys are welcome.
URL:https://libertybiblechurchky.org/event/men-and-boys-bible-study/2027-05-13/
LOCATION:Liberty Bible Church\, 115 South Main Street\, Crittenden\, KY\, 41030\, United States
CATEGORIES:Men and Boys
ATTACH;FMTTYPE=image/jpeg:https://libertybiblechurchky.org/wp-content/uploads/biblical-doctrine_1600x900.jpg
END:VEVENT
BEGIN:VEVENT
DTSTART;TZID=America/Kentucky/Louisville:20270516T100000
DTEND;TZID=America/Kentucky/Louisville:20270516T113000
DTSTAMP:20260424T121204
CREATED:20241217T032211Z
LAST-MODIFIED:20260210T023118Z
UID:10001956-1810461600-1810467000@libertybiblechurchky.org
SUMMARY:Sunday Morning
DESCRIPTION:We meet as a church on Sunday morning at 10 a.m. Our meeting starts with a brief Scripture reading and prayer. We sing classic and modern hymns of the faith from Hymns of Grace interspersed with an extended reading of Scripture from the Old Testament as well as the New Testament. Our sermons are expository to bring understanding of and obedience to God’s written word. \nOn the first Sunday of the month we share the Lord’s Table and we share a noon meal together on the third Sunday of the month. \nAll ages are welcome to attend and participate. We have an area for parents to work with needy children as well as space for nursing mothers.
URL:https://libertybiblechurchky.org/event/sunday-morning-3/2027-05-16/
LOCATION:Liberty Bible Church\, 115 South Main Street\, Crittenden\, KY\, 41030\, United States
CATEGORIES:Whole Church
ATTACH;FMTTYPE=image/jpeg:https://libertybiblechurchky.org/wp-content/uploads/bible-on-table_1088x612.jpg
END:VEVENT
BEGIN:VEVENT
DTSTART;TZID=America/Kentucky/Louisville:20270519T190000
DTEND;TZID=America/Kentucky/Louisville:20270519T200000
DTSTAMP:20260424T121204
CREATED:20220922T020455Z
LAST-MODIFIED:20251111T205110Z
UID:10000802-1810753200-1810756800@libertybiblechurchky.org
SUMMARY:Prayer Meeting
DESCRIPTION:Let us gather for prayer\, singing\, and encouragement. All ages are welcome to attend and participate.
URL:https://libertybiblechurchky.org/event/prayer-meeting/2027-05-19/
LOCATION:Liberty Bible Church\, 115 South Main Street\, Crittenden\, KY\, 41030\, United States
CATEGORIES:Whole Church
ATTACH;FMTTYPE=image/jpeg:https://libertybiblechurchky.org/wp-content/uploads/pray-hands-on-bible.jpg
END:VEVENT
BEGIN:VEVENT
DTSTART;TZID=America/Kentucky/Louisville:20270523T100000
DTEND;TZID=America/Kentucky/Louisville:20270523T113000
DTSTAMP:20260424T121204
CREATED:20241217T032211Z
LAST-MODIFIED:20260210T023118Z
UID:10001957-1811066400-1811071800@libertybiblechurchky.org
SUMMARY:Sunday Morning
DESCRIPTION:We meet as a church on Sunday morning at 10 a.m. Our meeting starts with a brief Scripture reading and prayer. We sing classic and modern hymns of the faith from Hymns of Grace interspersed with an extended reading of Scripture from the Old Testament as well as the New Testament. Our sermons are expository to bring understanding of and obedience to God’s written word. \nOn the first Sunday of the month we share the Lord’s Table and we share a noon meal together on the third Sunday of the month. \nAll ages are welcome to attend and participate. We have an area for parents to work with needy children as well as space for nursing mothers.
URL:https://libertybiblechurchky.org/event/sunday-morning-3/2027-05-23/
LOCATION:Liberty Bible Church\, 115 South Main Street\, Crittenden\, KY\, 41030\, United States
CATEGORIES:Whole Church
ATTACH;FMTTYPE=image/jpeg:https://libertybiblechurchky.org/wp-content/uploads/bible-on-table_1088x612.jpg
END:VEVENT
BEGIN:VEVENT
DTSTART;TZID=America/Kentucky/Louisville:20270526T190000
DTEND;TZID=America/Kentucky/Louisville:20270526T200000
DTSTAMP:20260424T121204
CREATED:20220922T020455Z
LAST-MODIFIED:20251111T205110Z
UID:10000803-1811358000-1811361600@libertybiblechurchky.org
SUMMARY:Prayer Meeting
DESCRIPTION:Let us gather for prayer\, singing\, and encouragement. All ages are welcome to attend and participate.
URL:https://libertybiblechurchky.org/event/prayer-meeting/2027-05-26/
LOCATION:Liberty Bible Church\, 115 South Main Street\, Crittenden\, KY\, 41030\, United States
CATEGORIES:Whole Church
ATTACH;FMTTYPE=image/jpeg:https://libertybiblechurchky.org/wp-content/uploads/pray-hands-on-bible.jpg
END:VEVENT
BEGIN:VEVENT
DTSTART;TZID=America/Kentucky/Louisville:20270527T190000
DTEND;TZID=America/Kentucky/Louisville:20270527T200000
DTSTAMP:20260424T121204
CREATED:20220922T020346Z
LAST-MODIFIED:20251111T214459Z
UID:10000961-1811444400-1811448000@libertybiblechurchky.org
SUMMARY:Men and Boys’ Bible Study
DESCRIPTION:We continue our study in Biblical Doctrine. All ages of men and boys are welcome.
URL:https://libertybiblechurchky.org/event/men-and-boys-bible-study/2027-05-27/
LOCATION:Liberty Bible Church\, 115 South Main Street\, Crittenden\, KY\, 41030\, United States
CATEGORIES:Men and Boys
ATTACH;FMTTYPE=image/jpeg:https://libertybiblechurchky.org/wp-content/uploads/biblical-doctrine_1600x900.jpg
END:VEVENT
BEGIN:VEVENT
DTSTART;TZID=America/Kentucky/Louisville:20270530T100000
DTEND;TZID=America/Kentucky/Louisville:20270530T113000
DTSTAMP:20260424T121205
CREATED:20241217T032211Z
LAST-MODIFIED:20260210T023118Z
UID:10001958-1811671200-1811676600@libertybiblechurchky.org
SUMMARY:Sunday Morning
DESCRIPTION:We meet as a church on Sunday morning at 10 a.m. Our meeting starts with a brief Scripture reading and prayer. We sing classic and modern hymns of the faith from Hymns of Grace interspersed with an extended reading of Scripture from the Old Testament as well as the New Testament. Our sermons are expository to bring understanding of and obedience to God’s written word. \nOn the first Sunday of the month we share the Lord’s Table and we share a noon meal together on the third Sunday of the month. \nAll ages are welcome to attend and participate. We have an area for parents to work with needy children as well as space for nursing mothers.
URL:https://libertybiblechurchky.org/event/sunday-morning-3/2027-05-30/
LOCATION:Liberty Bible Church\, 115 South Main Street\, Crittenden\, KY\, 41030\, United States
CATEGORIES:Whole Church
ATTACH;FMTTYPE=image/jpeg:https://libertybiblechurchky.org/wp-content/uploads/bible-on-table_1088x612.jpg
END:VEVENT
BEGIN:VEVENT
DTSTART;TZID=America/Kentucky/Louisville:20270602T190000
DTEND;TZID=America/Kentucky/Louisville:20270602T200000
DTSTAMP:20260424T121205
CREATED:20220922T020455Z
LAST-MODIFIED:20251111T205110Z
UID:10000804-1811962800-1811966400@libertybiblechurchky.org
SUMMARY:Prayer Meeting
DESCRIPTION:Let us gather for prayer\, singing\, and encouragement. All ages are welcome to attend and participate.
URL:https://libertybiblechurchky.org/event/prayer-meeting/2027-06-02/
LOCATION:Liberty Bible Church\, 115 South Main Street\, Crittenden\, KY\, 41030\, United States
CATEGORIES:Whole Church
ATTACH;FMTTYPE=image/jpeg:https://libertybiblechurchky.org/wp-content/uploads/pray-hands-on-bible.jpg
END:VEVENT
BEGIN:VEVENT
DTSTART;TZID=America/Kentucky/Louisville:20270606T100000
DTEND;TZID=America/Kentucky/Louisville:20270606T113000
DTSTAMP:20260424T121205
CREATED:20241217T032211Z
LAST-MODIFIED:20260210T023118Z
UID:10001959-1812276000-1812281400@libertybiblechurchky.org
SUMMARY:Sunday Morning
DESCRIPTION:We meet as a church on Sunday morning at 10 a.m. Our meeting starts with a brief Scripture reading and prayer. We sing classic and modern hymns of the faith from Hymns of Grace interspersed with an extended reading of Scripture from the Old Testament as well as the New Testament. Our sermons are expository to bring understanding of and obedience to God’s written word. \nOn the first Sunday of the month we share the Lord’s Table and we share a noon meal together on the third Sunday of the month. \nAll ages are welcome to attend and participate. We have an area for parents to work with needy children as well as space for nursing mothers.
URL:https://libertybiblechurchky.org/event/sunday-morning-3/2027-06-06/
LOCATION:Liberty Bible Church\, 115 South Main Street\, Crittenden\, KY\, 41030\, United States
CATEGORIES:Whole Church
ATTACH;FMTTYPE=image/jpeg:https://libertybiblechurchky.org/wp-content/uploads/bible-on-table_1088x612.jpg
END:VEVENT
BEGIN:VEVENT
DTSTART;TZID=America/Kentucky/Louisville:20270609T190000
DTEND;TZID=America/Kentucky/Louisville:20270609T200000
DTSTAMP:20260424T121205
CREATED:20220922T020455Z
LAST-MODIFIED:20251111T205110Z
UID:10000805-1812567600-1812571200@libertybiblechurchky.org
SUMMARY:Prayer Meeting
DESCRIPTION:Let us gather for prayer\, singing\, and encouragement. All ages are welcome to attend and participate.
URL:https://libertybiblechurchky.org/event/prayer-meeting/2027-06-09/
LOCATION:Liberty Bible Church\, 115 South Main Street\, Crittenden\, KY\, 41030\, United States
CATEGORIES:Whole Church
ATTACH;FMTTYPE=image/jpeg:https://libertybiblechurchky.org/wp-content/uploads/pray-hands-on-bible.jpg
END:VEVENT
BEGIN:VEVENT
DTSTART;TZID=America/Kentucky/Louisville:20270610T190000
DTEND;TZID=America/Kentucky/Louisville:20270610T200000
DTSTAMP:20260424T121205
CREATED:20220922T020346Z
LAST-MODIFIED:20251111T214459Z
UID:10000962-1812654000-1812657600@libertybiblechurchky.org
SUMMARY:Men and Boys’ Bible Study
DESCRIPTION:We continue our study in Biblical Doctrine. All ages of men and boys are welcome.
URL:https://libertybiblechurchky.org/event/men-and-boys-bible-study/2027-06-10/
LOCATION:Liberty Bible Church\, 115 South Main Street\, Crittenden\, KY\, 41030\, United States
CATEGORIES:Men and Boys
ATTACH;FMTTYPE=image/jpeg:https://libertybiblechurchky.org/wp-content/uploads/biblical-doctrine_1600x900.jpg
END:VEVENT
BEGIN:VEVENT
DTSTART;TZID=America/Kentucky/Louisville:20270613T100000
DTEND;TZID=America/Kentucky/Louisville:20270613T113000
DTSTAMP:20260424T121205
CREATED:20241217T032211Z
LAST-MODIFIED:20260210T023118Z
UID:10001960-1812880800-1812886200@libertybiblechurchky.org
SUMMARY:Sunday Morning
DESCRIPTION:We meet as a church on Sunday morning at 10 a.m. Our meeting starts with a brief Scripture reading and prayer. We sing classic and modern hymns of the faith from Hymns of Grace interspersed with an extended reading of Scripture from the Old Testament as well as the New Testament. Our sermons are expository to bring understanding of and obedience to God’s written word. \nOn the first Sunday of the month we share the Lord’s Table and we share a noon meal together on the third Sunday of the month. \nAll ages are welcome to attend and participate. We have an area for parents to work with needy children as well as space for nursing mothers.
URL:https://libertybiblechurchky.org/event/sunday-morning-3/2027-06-13/
LOCATION:Liberty Bible Church\, 115 South Main Street\, Crittenden\, KY\, 41030\, United States
CATEGORIES:Whole Church
ATTACH;FMTTYPE=image/jpeg:https://libertybiblechurchky.org/wp-content/uploads/bible-on-table_1088x612.jpg
END:VEVENT
BEGIN:VEVENT
DTSTART;TZID=America/Kentucky/Louisville:20270616T190000
DTEND;TZID=America/Kentucky/Louisville:20270616T200000
DTSTAMP:20260424T121205
CREATED:20220922T020455Z
LAST-MODIFIED:20251111T205110Z
UID:10000806-1813172400-1813176000@libertybiblechurchky.org
SUMMARY:Prayer Meeting
DESCRIPTION:Let us gather for prayer\, singing\, and encouragement. All ages are welcome to attend and participate.
URL:https://libertybiblechurchky.org/event/prayer-meeting/2027-06-16/
LOCATION:Liberty Bible Church\, 115 South Main Street\, Crittenden\, KY\, 41030\, United States
CATEGORIES:Whole Church
ATTACH;FMTTYPE=image/jpeg:https://libertybiblechurchky.org/wp-content/uploads/pray-hands-on-bible.jpg
END:VEVENT
BEGIN:VEVENT
DTSTART;TZID=America/Kentucky/Louisville:20270620T100000
DTEND;TZID=America/Kentucky/Louisville:20270620T113000
DTSTAMP:20260424T121205
CREATED:20241217T032211Z
LAST-MODIFIED:20260210T023118Z
UID:10001961-1813485600-1813491000@libertybiblechurchky.org
SUMMARY:Sunday Morning
DESCRIPTION:We meet as a church on Sunday morning at 10 a.m. Our meeting starts with a brief Scripture reading and prayer. We sing classic and modern hymns of the faith from Hymns of Grace interspersed with an extended reading of Scripture from the Old Testament as well as the New Testament. Our sermons are expository to bring understanding of and obedience to God’s written word. \nOn the first Sunday of the month we share the Lord’s Table and we share a noon meal together on the third Sunday of the month. \nAll ages are welcome to attend and participate. We have an area for parents to work with needy children as well as space for nursing mothers.
URL:https://libertybiblechurchky.org/event/sunday-morning-3/2027-06-20/
LOCATION:Liberty Bible Church\, 115 South Main Street\, Crittenden\, KY\, 41030\, United States
CATEGORIES:Whole Church
ATTACH;FMTTYPE=image/jpeg:https://libertybiblechurchky.org/wp-content/uploads/bible-on-table_1088x612.jpg
END:VEVENT
BEGIN:VEVENT
DTSTART;TZID=America/Kentucky/Louisville:20270623T190000
DTEND;TZID=America/Kentucky/Louisville:20270623T200000
DTSTAMP:20260424T121205
CREATED:20220922T020455Z
LAST-MODIFIED:20251111T205110Z
UID:10000807-1813777200-1813780800@libertybiblechurchky.org
SUMMARY:Prayer Meeting
DESCRIPTION:Let us gather for prayer\, singing\, and encouragement. All ages are welcome to attend and participate.
URL:https://libertybiblechurchky.org/event/prayer-meeting/2027-06-23/
LOCATION:Liberty Bible Church\, 115 South Main Street\, Crittenden\, KY\, 41030\, United States
CATEGORIES:Whole Church
ATTACH;FMTTYPE=image/jpeg:https://libertybiblechurchky.org/wp-content/uploads/pray-hands-on-bible.jpg
END:VEVENT
BEGIN:VEVENT
DTSTART;TZID=America/Kentucky/Louisville:20270624T190000
DTEND;TZID=America/Kentucky/Louisville:20270624T200000
DTSTAMP:20260424T121205
CREATED:20220922T020346Z
LAST-MODIFIED:20251111T214459Z
UID:10000963-1813863600-1813867200@libertybiblechurchky.org
SUMMARY:Men and Boys’ Bible Study
DESCRIPTION:We continue our study in Biblical Doctrine. All ages of men and boys are welcome.
URL:https://libertybiblechurchky.org/event/men-and-boys-bible-study/2027-06-24/
LOCATION:Liberty Bible Church\, 115 South Main Street\, Crittenden\, KY\, 41030\, United States
CATEGORIES:Men and Boys
ATTACH;FMTTYPE=image/jpeg:https://libertybiblechurchky.org/wp-content/uploads/biblical-doctrine_1600x900.jpg
END:VEVENT
BEGIN:VEVENT
DTSTART;TZID=America/Kentucky/Louisville:20270627T100000
DTEND;TZID=America/Kentucky/Louisville:20270627T113000
DTSTAMP:20260424T121205
CREATED:20241217T032211Z
LAST-MODIFIED:20260210T023118Z
UID:10001962-1814090400-1814095800@libertybiblechurchky.org
SUMMARY:Sunday Morning
DESCRIPTION:We meet as a church on Sunday morning at 10 a.m. Our meeting starts with a brief Scripture reading and prayer. We sing classic and modern hymns of the faith from Hymns of Grace interspersed with an extended reading of Scripture from the Old Testament as well as the New Testament. Our sermons are expository to bring understanding of and obedience to God’s written word. \nOn the first Sunday of the month we share the Lord’s Table and we share a noon meal together on the third Sunday of the month. \nAll ages are welcome to attend and participate. We have an area for parents to work with needy children as well as space for nursing mothers.
URL:https://libertybiblechurchky.org/event/sunday-morning-3/2027-06-27/
LOCATION:Liberty Bible Church\, 115 South Main Street\, Crittenden\, KY\, 41030\, United States
CATEGORIES:Whole Church
ATTACH;FMTTYPE=image/jpeg:https://libertybiblechurchky.org/wp-content/uploads/bible-on-table_1088x612.jpg
END:VEVENT
BEGIN:VEVENT
DTSTART;TZID=America/Kentucky/Louisville:20270630T190000
DTEND;TZID=America/Kentucky/Louisville:20270630T200000
DTSTAMP:20260424T121205
CREATED:20220922T020455Z
LAST-MODIFIED:20251111T205110Z
UID:10000808-1814382000-1814385600@libertybiblechurchky.org
SUMMARY:Prayer Meeting
DESCRIPTION:Let us gather for prayer\, singing\, and encouragement. All ages are welcome to attend and participate.
URL:https://libertybiblechurchky.org/event/prayer-meeting/2027-06-30/
LOCATION:Liberty Bible Church\, 115 South Main Street\, Crittenden\, KY\, 41030\, United States
CATEGORIES:Whole Church
ATTACH;FMTTYPE=image/jpeg:https://libertybiblechurchky.org/wp-content/uploads/pray-hands-on-bible.jpg
END:VEVENT
BEGIN:VEVENT
DTSTART;TZID=America/Kentucky/Louisville:20270704T100000
DTEND;TZID=America/Kentucky/Louisville:20270704T113000
DTSTAMP:20260424T121205
CREATED:20241217T032211Z
LAST-MODIFIED:20260210T023118Z
UID:10001963-1814695200-1814700600@libertybiblechurchky.org
SUMMARY:Sunday Morning
DESCRIPTION:We meet as a church on Sunday morning at 10 a.m. Our meeting starts with a brief Scripture reading and prayer. We sing classic and modern hymns of the faith from Hymns of Grace interspersed with an extended reading of Scripture from the Old Testament as well as the New Testament. Our sermons are expository to bring understanding of and obedience to God’s written word. \nOn the first Sunday of the month we share the Lord’s Table and we share a noon meal together on the third Sunday of the month. \nAll ages are welcome to attend and participate. We have an area for parents to work with needy children as well as space for nursing mothers.
URL:https://libertybiblechurchky.org/event/sunday-morning-3/2027-07-04/
LOCATION:Liberty Bible Church\, 115 South Main Street\, Crittenden\, KY\, 41030\, United States
CATEGORIES:Whole Church
ATTACH;FMTTYPE=image/jpeg:https://libertybiblechurchky.org/wp-content/uploads/bible-on-table_1088x612.jpg
END:VEVENT
BEGIN:VEVENT
DTSTART;TZID=America/Kentucky/Louisville:20270707T190000
DTEND;TZID=America/Kentucky/Louisville:20270707T200000
DTSTAMP:20260424T121205
CREATED:20220922T020455Z
LAST-MODIFIED:20251111T205110Z
UID:10000809-1814986800-1814990400@libertybiblechurchky.org
SUMMARY:Prayer Meeting
DESCRIPTION:Let us gather for prayer\, singing\, and encouragement. All ages are welcome to attend and participate.
URL:https://libertybiblechurchky.org/event/prayer-meeting/2027-07-07/
LOCATION:Liberty Bible Church\, 115 South Main Street\, Crittenden\, KY\, 41030\, United States
CATEGORIES:Whole Church
ATTACH;FMTTYPE=image/jpeg:https://libertybiblechurchky.org/wp-content/uploads/pray-hands-on-bible.jpg
END:VEVENT
END:VCALENDAR