BEGIN:VCALENDAR
VERSION:2.0
PRODID:-//Liberty Bible Church - ECPv6.15.20//NONSGML v1.0//EN
CALSCALE:GREGORIAN
METHOD:PUBLISH
X-ORIGINAL-URL:https://libertybiblechurchky.org
X-WR-CALDESC:Events for Liberty Bible Church
REFRESH-INTERVAL;VALUE=DURATION:PT1H
X-Robots-Tag:noindex
X-PUBLISHED-TTL:PT1H
BEGIN:VTIMEZONE
TZID:America/Kentucky/Louisville
BEGIN:DAYLIGHT
TZOFFSETFROM:-0500
TZOFFSETTO:-0400
TZNAME:EDT
DTSTART:20250309T070000
END:DAYLIGHT
BEGIN:STANDARD
TZOFFSETFROM:-0400
TZOFFSETTO:-0500
TZNAME:EST
DTSTART:20251102T060000
END:STANDARD
BEGIN:DAYLIGHT
TZOFFSETFROM:-0500
TZOFFSETTO:-0400
TZNAME:EDT
DTSTART:20260308T070000
END:DAYLIGHT
BEGIN:STANDARD
TZOFFSETFROM:-0400
TZOFFSETTO:-0500
TZNAME:EST
DTSTART:20261101T060000
END:STANDARD
BEGIN:DAYLIGHT
TZOFFSETFROM:-0500
TZOFFSETTO:-0400
TZNAME:EDT
DTSTART:20270314T070000
END:DAYLIGHT
BEGIN:STANDARD
TZOFFSETFROM:-0400
TZOFFSETTO:-0500
TZNAME:EST
DTSTART:20271107T060000
END:STANDARD
END:VTIMEZONE
BEGIN:VEVENT
DTSTART;TZID=America/Kentucky/Louisville:20260423T190000
DTEND;TZID=America/Kentucky/Louisville:20260423T203000
DTSTAMP:20260423T223207
CREATED:20260121T145602Z
LAST-MODIFIED:20260407T001440Z
UID:10002329-1776970800-1776976200@libertybiblechurchky.org
SUMMARY:Ladies’ Bible Study
DESCRIPTION:Ladies of all ages are welcome to attend a study of Paul’s Letter to the Philippian church\, taught by Sheila McDaniel. \n\nI hope this study will be an encouragement to the ladies in our church to have hope\, joy\, and contentment through whatever happens in our lives. \n—Sheila McDaniel \n\nThe study will take place at our church building on Thursday evenings. \nThe proposed outline and schedule for our study is as follows: \n\nJanuary 29: Acts 16:6–34\nFebruary 12: Philippians 1:1–8\nFebruary 26: Philippians 1:9–19\nMarch 12: Philippians 1:20–30\nMarch 26: Philippians 2:1–11\nApril: 9: No Meeting\nApril 23: Philippians 2:11–18\nMay 7: Philippians 2:19–30\nMay 21: Philippians 3:1–14\nJune 4: Philippians 3:15–21\nJune 18: Philippians 4:1–9\nJuly 2: Philippians 4:10–23
URL:https://libertybiblechurchky.org/event/ladies-bible-study/2026-04-23/
LOCATION:Liberty Bible Church\, 115 South Main Street\, Crittenden\, KY\, 41030\, United States
CATEGORIES:Women and Girls
ATTACH;FMTTYPE=image/jpeg:https://libertybiblechurchky.org/wp-content/uploads/phillipians.jpg
END:VEVENT
BEGIN:VEVENT
DTSTART;TZID=America/Kentucky/Louisville:20260422T190000
DTEND;TZID=America/Kentucky/Louisville:20260422T200000
DTSTAMP:20260423T223207
CREATED:20220922T020455Z
LAST-MODIFIED:20251111T205110Z
UID:10000746-1776884400-1776888000@libertybiblechurchky.org
SUMMARY:Prayer Meeting
DESCRIPTION:Let us gather for prayer\, singing\, and encouragement. All ages are welcome to attend and participate.
URL:https://libertybiblechurchky.org/event/prayer-meeting/2026-04-22/
LOCATION:Liberty Bible Church\, 115 South Main Street\, Crittenden\, KY\, 41030\, United States
CATEGORIES:Whole Church
ATTACH;FMTTYPE=image/jpeg:https://libertybiblechurchky.org/wp-content/uploads/pray-hands-on-bible.jpg
END:VEVENT
BEGIN:VEVENT
DTSTART;TZID=America/Kentucky/Louisville:20260419T100000
DTEND;TZID=America/Kentucky/Louisville:20260419T113000
DTSTAMP:20260423T223207
CREATED:20241217T032211Z
LAST-MODIFIED:20260210T023118Z
UID:10001900-1776592800-1776598200@libertybiblechurchky.org
SUMMARY:Sunday Morning
DESCRIPTION:We meet as a church on Sunday morning at 10 a.m. Our meeting starts with a brief Scripture reading and prayer. We sing classic and modern hymns of the faith from Hymns of Grace interspersed with an extended reading of Scripture from the Old Testament as well as the New Testament. Our sermons are expository to bring understanding of and obedience to God’s written word. \nOn the first Sunday of the month we share the Lord’s Table and we share a noon meal together on the third Sunday of the month. \nAll ages are welcome to attend and participate. We have an area for parents to work with needy children as well as space for nursing mothers.
URL:https://libertybiblechurchky.org/event/sunday-morning-3/2026-04-19/
LOCATION:Liberty Bible Church\, 115 South Main Street\, Crittenden\, KY\, 41030\, United States
CATEGORIES:Whole Church
ATTACH;FMTTYPE=image/jpeg:https://libertybiblechurchky.org/wp-content/uploads/bible-on-table_1088x612.jpg
END:VEVENT
BEGIN:VEVENT
DTSTART;TZID=America/Kentucky/Louisville:20260417T190000
DTEND;TZID=America/Kentucky/Louisville:20260417T210000
DTSTAMP:20260423T223207
CREATED:20260331T181508Z
LAST-MODIFIED:20260331T181508Z
UID:10002364-1776452400-1776459600@libertybiblechurchky.org
SUMMARY:Game Night
DESCRIPTION:Share in games and conversation for all ages. Please bring a game and a snack to share.
URL:https://libertybiblechurchky.org/event/game-night/
LOCATION:Liberty Bible Church\, 115 South Main Street\, Crittenden\, KY\, 41030\, United States
CATEGORIES:Whole Church
ATTACH;FMTTYPE=image/jpeg:https://libertybiblechurchky.org/wp-content/uploads/game-chess-board_1920x1080.jpg
END:VEVENT
BEGIN:VEVENT
DTSTART;TZID=America/Kentucky/Louisville:20260416T190000
DTEND;TZID=America/Kentucky/Louisville:20260416T200000
DTSTAMP:20260423T223207
CREATED:20220922T020346Z
LAST-MODIFIED:20251111T214459Z
UID:10000932-1776366000-1776369600@libertybiblechurchky.org
SUMMARY:Men and Boys’ Bible Study
DESCRIPTION:We continue our study in Biblical Doctrine. All ages of men and boys are welcome.
URL:https://libertybiblechurchky.org/event/men-and-boys-bible-study/2026-04-16/
LOCATION:Liberty Bible Church\, 115 South Main Street\, Crittenden\, KY\, 41030\, United States
CATEGORIES:Men and Boys
ATTACH;FMTTYPE=image/jpeg:https://libertybiblechurchky.org/wp-content/uploads/biblical-doctrine_1600x900.jpg
END:VEVENT
BEGIN:VEVENT
DTSTART;TZID=America/Kentucky/Louisville:20260415T190000
DTEND;TZID=America/Kentucky/Louisville:20260415T200000
DTSTAMP:20260423T223207
CREATED:20220922T020455Z
LAST-MODIFIED:20251111T205110Z
UID:10000745-1776279600-1776283200@libertybiblechurchky.org
SUMMARY:Prayer Meeting
DESCRIPTION:Let us gather for prayer\, singing\, and encouragement. All ages are welcome to attend and participate.
URL:https://libertybiblechurchky.org/event/prayer-meeting/2026-04-15/
LOCATION:Liberty Bible Church\, 115 South Main Street\, Crittenden\, KY\, 41030\, United States
CATEGORIES:Whole Church
ATTACH;FMTTYPE=image/jpeg:https://libertybiblechurchky.org/wp-content/uploads/pray-hands-on-bible.jpg
END:VEVENT
BEGIN:VEVENT
DTSTART;TZID=America/Kentucky/Louisville:20260412T100000
DTEND;TZID=America/Kentucky/Louisville:20260412T113000
DTSTAMP:20260423T223207
CREATED:20260407T123550Z
LAST-MODIFIED:20260407T123554Z
UID:10001899-1775988000-1775993400@libertybiblechurchky.org
SUMMARY:Sunday Morning
DESCRIPTION:Our opening Scripture reading comes from Psalm 8\, which says\, “O Yahweh\, our Lord\, how majestic is Your name in all the earth\, who displays Your splendor above the heavens!” \nOur reading of the Old Testament comes from Nehemiah 1:1–11\, where Nehemiah was told\, “The remnant there in the province who remain from the captivity are in great calamity and reproach\, and the wall of Jerusalem is broken down and its gates are burned with fire.” \nOur reading of the New Testament comes from Matthew 8:5–13\, where our Lord says of the Roman centurion\, “Truly I say to you\, I have not found such great faith with anyone in Israel.” \nOur Bible study comes from Ecclesiastes 5:8–20\, which says\, “Here is what I have seen to be good\, which is beautiful: to eat\, to drink\, and to see good in all one’s labor in which he labors under the sun during the few days of his life which God has given him; for this is his portion.” \nOur congregational songs will include the following: \n\nGive to Our God Immortal Praise (HG #14)\nDepth of Mercy (HG #189)\nA Debtor to Mercy (HG #186)\nBy Faith (HG #361)\nMerciful God (HG #413)\n\nOur benediction comes from Romans 15:5–6\, which says\, “Now may the God of perseverance and encouragement grant you to be of the same mind with one another according to Christ Jesus\, so that with one accord you may with one voice glorify the God and Father of our Lord Jesus Christ.” \nAll ages are welcome to attend and participate. We have an area for parents to work with needy children as well as space for nursing mothers.
URL:https://libertybiblechurchky.org/event/sunday-morning-3-3/
LOCATION:Liberty Bible Church\, 115 South Main Street\, Crittenden\, KY\, 41030\, United States
CATEGORIES:Whole Church
ATTACH;FMTTYPE=image/jpeg:https://libertybiblechurchky.org/wp-content/uploads/bible-on-table_1088x612.jpg
END:VEVENT
BEGIN:VEVENT
DTSTART;TZID=America/Kentucky/Louisville:20260409T190000
DTEND;TZID=America/Kentucky/Louisville:20260409T203000
DTSTAMP:20260423T223207
CREATED:20260407T001537Z
LAST-MODIFIED:20260407T001539Z
UID:10002328-1775761200-1775766600@libertybiblechurchky.org
SUMMARY:Canceled: Ladies’ Bible Study
DESCRIPTION:This study session is canceled due to scheduling conflicts. \nLadies of all ages are welcome to attend a study of Paul’s Letter to the Philippian church\, taught by Sheila McDaniel. \n\nI hope this study will be an encouragement to the ladies in our church to have hope\, joy\, and contentment through whatever happens in our lives. \n—Sheila McDaniel \n\nThe study will take place at our church building on Thursday evenings. \nThe proposed outline and schedule for our study is as follows: \n\nJanuary 29: Acts 16:6–34\nFebruary 12: Philippians 1:1–8\nFebruary 26: Philippians 1:9–19\nMarch 12: Philippians 1:20–30\nMarch 26: Philippians 2:1–11\nApril: 9: No Meeting\nApril 23: Philippians 2:11–18\nMay 7: Philippians 2:19–30\nMay 21: Philippians 3:1–14\nJune 4: Philippians 3:15–21\nJune 18: Philippians 4:1–9\nJuly 2: Philippians 4:10–23
URL:https://libertybiblechurchky.org/event/ladies-bible-study-2/
LOCATION:Liberty Bible Church\, 115 South Main Street\, Crittenden\, KY\, 41030\, United States
CATEGORIES:Women and Girls
ATTACH;FMTTYPE=image/jpeg:https://libertybiblechurchky.org/wp-content/uploads/phillipians.jpg
END:VEVENT
BEGIN:VEVENT
DTSTART;TZID=America/Kentucky/Louisville:20260408T190000
DTEND;TZID=America/Kentucky/Louisville:20260408T200000
DTSTAMP:20260423T223207
CREATED:20220922T020455Z
LAST-MODIFIED:20251111T205110Z
UID:10000744-1775674800-1775678400@libertybiblechurchky.org
SUMMARY:Prayer Meeting
DESCRIPTION:Let us gather for prayer\, singing\, and encouragement. All ages are welcome to attend and participate.
URL:https://libertybiblechurchky.org/event/prayer-meeting/2026-04-08/
LOCATION:Liberty Bible Church\, 115 South Main Street\, Crittenden\, KY\, 41030\, United States
CATEGORIES:Whole Church
ATTACH;FMTTYPE=image/jpeg:https://libertybiblechurchky.org/wp-content/uploads/pray-hands-on-bible.jpg
END:VEVENT
BEGIN:VEVENT
DTSTART;TZID=America/Kentucky/Louisville:20260405T100000
DTEND;TZID=America/Kentucky/Louisville:20260405T113000
DTSTAMP:20260423T223207
CREATED:20260331T012549Z
LAST-MODIFIED:20260404T155557Z
UID:10001898-1775383200-1775388600@libertybiblechurchky.org
SUMMARY:Sunday Morning
DESCRIPTION:Our opening Scripture reading comes from 1 Corinthians 15:1–11\, which says\, “For I delivered to you as of first importance what I also received\, that Christ died for our sins according to the Scriptures\, and that He was buried\, and that He was raised on the third day according to the Scriptures.” \nOur reading of the Old Testament comes from Psalm 16\, which says\, “For You will not forsake my soul to Sheol; You will not give Your Holy One over to see corruption.” \nOur reading of the New Testament comes from Luke 24:1–8\, where the angels said\, “Why do you seek the living One among the dead? He is not here\, but He has risen. Remember how He spoke to you while He was still in Galilee\, saying that the Son of Man must be delivered into the hands of sinful men\, and be crucified\, and the third day rise again.” \nOur Bible study comes from Matthew 16:21–23\, which records our Lord’s first telling of His impending death and resurrection in Jerusalem. \nOur congregational songs will include the following: \n\nHallelujah for the Cross (HG #287)\nChrist Arose! (HG #307)\nResurrection Hymn (HG #310)\nHis Robes for Mine (HG #181)\nChrist the Lord Is Risen Today (HG #312)\n\nOur benediction comes from Hebrews 13:20–21\, which says\, “Now the God of peace\, who brought up from the dead the great Shepherd of the sheep through the blood of the eternal covenant\, our Lord Jesus\, equip you in every good thing to do His will\, by doing in us what is pleasing in His sight\, through Jesus Christ\, to whom be the glory forever and ever. Amen.” \nAll ages are welcome to attend and participate. We have an area for parents to work with needy children as well as space for nursing mothers.
URL:https://libertybiblechurchky.org/event/sunday-morning-3-7/
LOCATION:Liberty Bible Church\, 115 South Main Street\, Crittenden\, KY\, 41030\, United States
CATEGORIES:Whole Church
ATTACH;FMTTYPE=image/jpeg:https://libertybiblechurchky.org/wp-content/uploads/bible-on-table_1088x612.jpg
END:VEVENT
BEGIN:VEVENT
DTSTART;TZID=America/Kentucky/Louisville:20260403T190000
DTEND;TZID=America/Kentucky/Louisville:20260403T200000
DTSTAMP:20260423T223207
CREATED:20260316T162923Z
LAST-MODIFIED:20260316T162923Z
UID:10002356-1775242800-1775246400@libertybiblechurchky.org
SUMMARY:Good Friday Remembrance
DESCRIPTION:Share Scripture readings and hymns to reflect on the cost of our salvation and our Lord’s victory on the cross.
URL:https://libertybiblechurchky.org/event/good-friday-remembrance/
LOCATION:Liberty Bible Church\, 115 South Main Street\, Crittenden\, KY\, 41030\, United States
CATEGORIES:Whole Church
ATTACH;FMTTYPE=image/jpeg:https://libertybiblechurchky.org/wp-content/uploads/three-crosses.jpg
END:VEVENT
BEGIN:VEVENT
DTSTART;TZID=America/Kentucky/Louisville:20260402T190000
DTEND;TZID=America/Kentucky/Louisville:20260402T200000
DTSTAMP:20260423T223207
CREATED:20260402T134100Z
LAST-MODIFIED:20260402T134103Z
UID:10000931-1775156400-1775160000@libertybiblechurchky.org
SUMMARY:Canceled: Men and Boys’ Bible Study
DESCRIPTION:Tonight’s scheduled study is canceled due to sickness.
URL:https://libertybiblechurchky.org/event/men-and-boys-bible-study-2/
LOCATION:Liberty Bible Church\, 115 South Main Street\, Crittenden\, KY\, 41030\, United States
CATEGORIES:Men and Boys
ATTACH;FMTTYPE=image/jpeg:https://libertybiblechurchky.org/wp-content/uploads/biblical-doctrine_1600x900.jpg
END:VEVENT
BEGIN:VEVENT
DTSTART;TZID=America/Kentucky/Louisville:20260401T190000
DTEND;TZID=America/Kentucky/Louisville:20260401T200000
DTSTAMP:20260423T223207
CREATED:20220922T020455Z
LAST-MODIFIED:20251111T205110Z
UID:10000743-1775070000-1775073600@libertybiblechurchky.org
SUMMARY:Prayer Meeting
DESCRIPTION:Let us gather for prayer\, singing\, and encouragement. All ages are welcome to attend and participate.
URL:https://libertybiblechurchky.org/event/prayer-meeting/2026-04-01/
LOCATION:Liberty Bible Church\, 115 South Main Street\, Crittenden\, KY\, 41030\, United States
CATEGORIES:Whole Church
ATTACH;FMTTYPE=image/jpeg:https://libertybiblechurchky.org/wp-content/uploads/pray-hands-on-bible.jpg
END:VEVENT
BEGIN:VEVENT
DTSTART;TZID=America/Kentucky/Louisville:20260329T100000
DTEND;TZID=America/Kentucky/Louisville:20260329T113000
DTSTAMP:20260423T223207
CREATED:20260324T134955Z
LAST-MODIFIED:20260324T134959Z
UID:10001897-1774778400-1774783800@libertybiblechurchky.org
SUMMARY:Sunday Morning
DESCRIPTION:Our opening Scripture reading comes from Mark 11:1–11\, which says\, “And they brought the colt to Jesus and put their garments on it; and He sat on it.” \nOur reading of the Old Testament comes from Zechariah 9:9–17\, which says\, “Rejoice greatly\, O daughter of Zion! Make a loud shout\, O daughter of Jerusalem! Behold\, your king is coming to you; He is righteous and endowed with salvation\, lowly and mounted on a donkey\, even on a colt\, the foal of a pack animal.” \nOur reading of the New Testament comes from Revelation 19:11–21\, which says\, “Then I saw heaven opened\, and behold\, a white horse\, and He who sits on it is called Faithful and True\, and in righteousness He judges and wages war.” \nOur Bible study comes from Zechariah 9:9–10\, which prophesies our Lord’s first and second comings. \nOur congregational songs will include the following: \n\nAll Glory\, Laud\, and Honor (HG #260)\nJesus Shall Reign (HG #120)\nCome\, Behold the Wondrous Mystery (HG #184)\nHe Shall Come Again in Glory (HG #426)\nBenediction (HG #438)\n\nAll ages are welcome to attend and participate. We have an area for parents to work with needy children as well as space for nursing mothers.
URL:https://libertybiblechurchky.org/event/sunday-morning-3-6/
LOCATION:Liberty Bible Church\, 115 South Main Street\, Crittenden\, KY\, 41030\, United States
CATEGORIES:Whole Church
ATTACH;FMTTYPE=image/jpeg:https://libertybiblechurchky.org/wp-content/uploads/bible-on-table_1088x612.jpg
END:VEVENT
BEGIN:VEVENT
DTSTART;TZID=America/Kentucky/Louisville:20260326T190000
DTEND;TZID=America/Kentucky/Louisville:20260326T203000
DTSTAMP:20260423T223207
CREATED:20260121T145602Z
LAST-MODIFIED:20260407T001440Z
UID:10002327-1774551600-1774557000@libertybiblechurchky.org
SUMMARY:Ladies’ Bible Study
DESCRIPTION:Ladies of all ages are welcome to attend a study of Paul’s Letter to the Philippian church\, taught by Sheila McDaniel. \n\nI hope this study will be an encouragement to the ladies in our church to have hope\, joy\, and contentment through whatever happens in our lives. \n—Sheila McDaniel \n\nThe study will take place at our church building on Thursday evenings. \nThe proposed outline and schedule for our study is as follows: \n\nJanuary 29: Acts 16:6–34\nFebruary 12: Philippians 1:1–8\nFebruary 26: Philippians 1:9–19\nMarch 12: Philippians 1:20–30\nMarch 26: Philippians 2:1–11\nApril: 9: No Meeting\nApril 23: Philippians 2:11–18\nMay 7: Philippians 2:19–30\nMay 21: Philippians 3:1–14\nJune 4: Philippians 3:15–21\nJune 18: Philippians 4:1–9\nJuly 2: Philippians 4:10–23
URL:https://libertybiblechurchky.org/event/ladies-bible-study/2026-03-26/
LOCATION:Liberty Bible Church\, 115 South Main Street\, Crittenden\, KY\, 41030\, United States
CATEGORIES:Women and Girls
ATTACH;FMTTYPE=image/jpeg:https://libertybiblechurchky.org/wp-content/uploads/phillipians.jpg
END:VEVENT
BEGIN:VEVENT
DTSTART;TZID=America/Kentucky/Louisville:20260325T190000
DTEND;TZID=America/Kentucky/Louisville:20260325T200000
DTSTAMP:20260423T223207
CREATED:20220922T020455Z
LAST-MODIFIED:20251111T205110Z
UID:10000742-1774465200-1774468800@libertybiblechurchky.org
SUMMARY:Prayer Meeting
DESCRIPTION:Let us gather for prayer\, singing\, and encouragement. All ages are welcome to attend and participate.
URL:https://libertybiblechurchky.org/event/prayer-meeting/2026-03-25/
LOCATION:Liberty Bible Church\, 115 South Main Street\, Crittenden\, KY\, 41030\, United States
CATEGORIES:Whole Church
ATTACH;FMTTYPE=image/jpeg:https://libertybiblechurchky.org/wp-content/uploads/pray-hands-on-bible.jpg
END:VEVENT
END:VCALENDAR