BEGIN:VCALENDAR
VERSION:2.0
PRODID:-//Liberty Bible Church - ECPv6.15.20//NONSGML v1.0//EN
CALSCALE:GREGORIAN
METHOD:PUBLISH
X-ORIGINAL-URL:https://libertybiblechurchky.org
X-WR-CALDESC:Events for Liberty Bible Church
REFRESH-INTERVAL;VALUE=DURATION:PT1H
X-Robots-Tag:noindex
X-PUBLISHED-TTL:PT1H
BEGIN:VTIMEZONE
TZID:America/Kentucky/Louisville
BEGIN:DAYLIGHT
TZOFFSETFROM:-0500
TZOFFSETTO:-0400
TZNAME:EDT
DTSTART:20250309T070000
END:DAYLIGHT
BEGIN:STANDARD
TZOFFSETFROM:-0400
TZOFFSETTO:-0500
TZNAME:EST
DTSTART:20251102T060000
END:STANDARD
BEGIN:DAYLIGHT
TZOFFSETFROM:-0500
TZOFFSETTO:-0400
TZNAME:EDT
DTSTART:20260308T070000
END:DAYLIGHT
BEGIN:STANDARD
TZOFFSETFROM:-0400
TZOFFSETTO:-0500
TZNAME:EST
DTSTART:20261101T060000
END:STANDARD
BEGIN:DAYLIGHT
TZOFFSETFROM:-0500
TZOFFSETTO:-0400
TZNAME:EDT
DTSTART:20270314T070000
END:DAYLIGHT
BEGIN:STANDARD
TZOFFSETFROM:-0400
TZOFFSETTO:-0500
TZNAME:EST
DTSTART:20271107T060000
END:STANDARD
END:VTIMEZONE
BEGIN:VEVENT
DTSTART;TZID=America/Kentucky/Louisville:20260401T190000
DTEND;TZID=America/Kentucky/Louisville:20260401T200000
DTSTAMP:20260423T221712
CREATED:20220922T020455Z
LAST-MODIFIED:20251111T205110Z
UID:10000743-1775070000-1775073600@libertybiblechurchky.org
SUMMARY:Prayer Meeting
DESCRIPTION:Let us gather for prayer\, singing\, and encouragement. All ages are welcome to attend and participate.
URL:https://libertybiblechurchky.org/event/prayer-meeting/2026-04-01/
LOCATION:Liberty Bible Church\, 115 South Main Street\, Crittenden\, KY\, 41030\, United States
CATEGORIES:Whole Church
ATTACH;FMTTYPE=image/jpeg:https://libertybiblechurchky.org/wp-content/uploads/pray-hands-on-bible.jpg
END:VEVENT
BEGIN:VEVENT
DTSTART;TZID=America/Kentucky/Louisville:20260329T100000
DTEND;TZID=America/Kentucky/Louisville:20260329T113000
DTSTAMP:20260423T221712
CREATED:20260324T134955Z
LAST-MODIFIED:20260324T134959Z
UID:10001897-1774778400-1774783800@libertybiblechurchky.org
SUMMARY:Sunday Morning
DESCRIPTION:Our opening Scripture reading comes from Mark 11:1–11\, which says\, “And they brought the colt to Jesus and put their garments on it; and He sat on it.” \nOur reading of the Old Testament comes from Zechariah 9:9–17\, which says\, “Rejoice greatly\, O daughter of Zion! Make a loud shout\, O daughter of Jerusalem! Behold\, your king is coming to you; He is righteous and endowed with salvation\, lowly and mounted on a donkey\, even on a colt\, the foal of a pack animal.” \nOur reading of the New Testament comes from Revelation 19:11–21\, which says\, “Then I saw heaven opened\, and behold\, a white horse\, and He who sits on it is called Faithful and True\, and in righteousness He judges and wages war.” \nOur Bible study comes from Zechariah 9:9–10\, which prophesies our Lord’s first and second comings. \nOur congregational songs will include the following: \n\nAll Glory\, Laud\, and Honor (HG #260)\nJesus Shall Reign (HG #120)\nCome\, Behold the Wondrous Mystery (HG #184)\nHe Shall Come Again in Glory (HG #426)\nBenediction (HG #438)\n\nAll ages are welcome to attend and participate. We have an area for parents to work with needy children as well as space for nursing mothers.
URL:https://libertybiblechurchky.org/event/sunday-morning-3-6/
LOCATION:Liberty Bible Church\, 115 South Main Street\, Crittenden\, KY\, 41030\, United States
CATEGORIES:Whole Church
ATTACH;FMTTYPE=image/jpeg:https://libertybiblechurchky.org/wp-content/uploads/bible-on-table_1088x612.jpg
END:VEVENT
BEGIN:VEVENT
DTSTART;TZID=America/Kentucky/Louisville:20260326T190000
DTEND;TZID=America/Kentucky/Louisville:20260326T203000
DTSTAMP:20260423T221712
CREATED:20260121T145602Z
LAST-MODIFIED:20260407T001440Z
UID:10002327-1774551600-1774557000@libertybiblechurchky.org
SUMMARY:Ladies’ Bible Study
DESCRIPTION:Ladies of all ages are welcome to attend a study of Paul’s Letter to the Philippian church\, taught by Sheila McDaniel. \n\nI hope this study will be an encouragement to the ladies in our church to have hope\, joy\, and contentment through whatever happens in our lives. \n—Sheila McDaniel \n\nThe study will take place at our church building on Thursday evenings. \nThe proposed outline and schedule for our study is as follows: \n\nJanuary 29: Acts 16:6–34\nFebruary 12: Philippians 1:1–8\nFebruary 26: Philippians 1:9–19\nMarch 12: Philippians 1:20–30\nMarch 26: Philippians 2:1–11\nApril: 9: No Meeting\nApril 23: Philippians 2:11–18\nMay 7: Philippians 2:19–30\nMay 21: Philippians 3:1–14\nJune 4: Philippians 3:15–21\nJune 18: Philippians 4:1–9\nJuly 2: Philippians 4:10–23
URL:https://libertybiblechurchky.org/event/ladies-bible-study/2026-03-26/
LOCATION:Liberty Bible Church\, 115 South Main Street\, Crittenden\, KY\, 41030\, United States
CATEGORIES:Women and Girls
ATTACH;FMTTYPE=image/jpeg:https://libertybiblechurchky.org/wp-content/uploads/phillipians.jpg
END:VEVENT
BEGIN:VEVENT
DTSTART;TZID=America/Kentucky/Louisville:20260325T190000
DTEND;TZID=America/Kentucky/Louisville:20260325T200000
DTSTAMP:20260423T221712
CREATED:20220922T020455Z
LAST-MODIFIED:20251111T205110Z
UID:10000742-1774465200-1774468800@libertybiblechurchky.org
SUMMARY:Prayer Meeting
DESCRIPTION:Let us gather for prayer\, singing\, and encouragement. All ages are welcome to attend and participate.
URL:https://libertybiblechurchky.org/event/prayer-meeting/2026-03-25/
LOCATION:Liberty Bible Church\, 115 South Main Street\, Crittenden\, KY\, 41030\, United States
CATEGORIES:Whole Church
ATTACH;FMTTYPE=image/jpeg:https://libertybiblechurchky.org/wp-content/uploads/pray-hands-on-bible.jpg
END:VEVENT
END:VCALENDAR