BEGIN:VCALENDAR
VERSION:2.0
PRODID:-//Liberty Bible Church - ECPv6.15.20//NONSGML v1.0//EN
CALSCALE:GREGORIAN
METHOD:PUBLISH
X-ORIGINAL-URL:https://libertybiblechurchky.org
X-WR-CALDESC:Events for Liberty Bible Church
REFRESH-INTERVAL;VALUE=DURATION:PT1H
X-Robots-Tag:noindex
X-PUBLISHED-TTL:PT1H
BEGIN:VTIMEZONE
TZID:America/Kentucky/Louisville
BEGIN:DAYLIGHT
TZOFFSETFROM:-0500
TZOFFSETTO:-0400
TZNAME:EDT
DTSTART:20250309T070000
END:DAYLIGHT
BEGIN:STANDARD
TZOFFSETFROM:-0400
TZOFFSETTO:-0500
TZNAME:EST
DTSTART:20251102T060000
END:STANDARD
BEGIN:DAYLIGHT
TZOFFSETFROM:-0500
TZOFFSETTO:-0400
TZNAME:EDT
DTSTART:20260308T070000
END:DAYLIGHT
BEGIN:STANDARD
TZOFFSETFROM:-0400
TZOFFSETTO:-0500
TZNAME:EST
DTSTART:20261101T060000
END:STANDARD
BEGIN:DAYLIGHT
TZOFFSETFROM:-0500
TZOFFSETTO:-0400
TZNAME:EDT
DTSTART:20270314T070000
END:DAYLIGHT
BEGIN:STANDARD
TZOFFSETFROM:-0400
TZOFFSETTO:-0500
TZNAME:EST
DTSTART:20271107T060000
END:STANDARD
END:VTIMEZONE
BEGIN:VEVENT
DTSTART;TZID=America/Kentucky/Louisville:20260426T100000
DTEND;TZID=America/Kentucky/Louisville:20260426T113000
DTSTAMP:20260423T222355
CREATED:20260421T130139Z
LAST-MODIFIED:20260421T130142Z
UID:10001901-1777197600-1777203000@libertybiblechurchky.org
SUMMARY:Sunday Morning
DESCRIPTION:Our opening Scripture reading comes from Psalm 96:11–13\, which says\, “He will judge the world in righteousness and the peoples in His faithfulness.” \nOur reading of the Old Testament comes from Nehemiah 2:11–20\, where Nehemiah said to the people\, “Come\, let us rebuild the wall of Jerusalem so that we will no longer be a reproach.” \nOur reading of the New Testament comes from Matthew 8:23–34\, which says\, “Then He got up and rebuked the winds and the sea\, and it became perfectly calm. And the men marveled\, and said\, ‘What kind of a man is this\, that even the winds and the sea obey Him?’” \nOur Bible study comes from Ecclesiastes 7:1–14\, which says\, “Better is the end of a matter than its beginning; better is patience of spirit than haughtiness of spirit.” \nOur congregational songs will include the following: \n\nLet the Earth Resound (HG #40)\nGod Leads Us Along (HG #57)\nO Worship the King (HG #135)\nO the Love of My Redeemer (HG #207)\nYe Servants of God (HG #358)\n\nOur benediction comes from Philemon 25\, which says\, “The grace of the Lord Jesus Christ be with your spirit.” \nAll ages are welcome to attend and participate. We have an area for parents to work with needy children as well as space for nursing mothers.
URL:https://libertybiblechurchky.org/event/sunday-morning-3-4/
LOCATION:Liberty Bible Church\, 115 South Main Street\, Crittenden\, KY\, 41030\, United States
CATEGORIES:Whole Church
ATTACH;FMTTYPE=image/jpeg:https://libertybiblechurchky.org/wp-content/uploads/bible-on-table_1088x612.jpg
END:VEVENT
BEGIN:VEVENT
DTSTART;TZID=America/Kentucky/Louisville:20260429T190000
DTEND;TZID=America/Kentucky/Louisville:20260429T200000
DTSTAMP:20260423T222355
CREATED:20220922T020455Z
LAST-MODIFIED:20251111T205110Z
UID:10000747-1777489200-1777492800@libertybiblechurchky.org
SUMMARY:Prayer Meeting
DESCRIPTION:Let us gather for prayer\, singing\, and encouragement. All ages are welcome to attend and participate.
URL:https://libertybiblechurchky.org/event/prayer-meeting/2026-04-29/
LOCATION:Liberty Bible Church\, 115 South Main Street\, Crittenden\, KY\, 41030\, United States
CATEGORIES:Whole Church
ATTACH;FMTTYPE=image/jpeg:https://libertybiblechurchky.org/wp-content/uploads/pray-hands-on-bible.jpg
END:VEVENT
END:VCALENDAR