BEGIN:VCALENDAR
VERSION:2.0
PRODID:-//Liberty Bible Church - ECPv6.15.20//NONSGML v1.0//EN
CALSCALE:GREGORIAN
METHOD:PUBLISH
X-WR-CALNAME:Liberty Bible Church
X-ORIGINAL-URL:https://libertybiblechurchky.org
X-WR-CALDESC:Events for Liberty Bible Church
REFRESH-INTERVAL;VALUE=DURATION:PT1H
X-Robots-Tag:noindex
X-PUBLISHED-TTL:PT1H
BEGIN:VTIMEZONE
TZID:America/Kentucky/Louisville
BEGIN:DAYLIGHT
TZOFFSETFROM:-0500
TZOFFSETTO:-0400
TZNAME:EDT
DTSTART:20260308T070000
END:DAYLIGHT
BEGIN:STANDARD
TZOFFSETFROM:-0400
TZOFFSETTO:-0500
TZNAME:EST
DTSTART:20261101T060000
END:STANDARD
BEGIN:DAYLIGHT
TZOFFSETFROM:-0500
TZOFFSETTO:-0400
TZNAME:EDT
DTSTART:20270314T070000
END:DAYLIGHT
BEGIN:STANDARD
TZOFFSETFROM:-0400
TZOFFSETTO:-0500
TZNAME:EST
DTSTART:20271107T060000
END:STANDARD
BEGIN:DAYLIGHT
TZOFFSETFROM:-0500
TZOFFSETTO:-0400
TZNAME:EDT
DTSTART:20280312T070000
END:DAYLIGHT
BEGIN:STANDARD
TZOFFSETFROM:-0400
TZOFFSETTO:-0500
TZNAME:EST
DTSTART:20281105T060000
END:STANDARD
BEGIN:DAYLIGHT
TZOFFSETFROM:-0500
TZOFFSETTO:-0400
TZNAME:EDT
DTSTART:20290311T070000
END:DAYLIGHT
BEGIN:STANDARD
TZOFFSETFROM:-0400
TZOFFSETTO:-0500
TZNAME:EST
DTSTART:20291104T060000
END:STANDARD
END:VTIMEZONE
BEGIN:VEVENT
DTSTART;TZID=America/Kentucky/Louisville:20270902T190000
DTEND;TZID=America/Kentucky/Louisville:20270902T200000
DTSTAMP:20260425T100230
CREATED:20220922T020346Z
LAST-MODIFIED:20251111T214459Z
UID:10000968-1819911600-1819915200@libertybiblechurchky.org
SUMMARY:Men and Boys’ Bible Study
DESCRIPTION:We continue our study in Biblical Doctrine. All ages of men and boys are welcome.
URL:https://libertybiblechurchky.org/event/men-and-boys-bible-study/2027-09-02/
LOCATION:Liberty Bible Church\, 115 South Main Street\, Crittenden\, KY\, 41030\, United States
CATEGORIES:Men and Boys
ATTACH;FMTTYPE=image/jpeg:https://libertybiblechurchky.org/wp-content/uploads/biblical-doctrine_1600x900.jpg
END:VEVENT
BEGIN:VEVENT
DTSTART;TZID=America/Kentucky/Louisville:20270916T190000
DTEND;TZID=America/Kentucky/Louisville:20270916T200000
DTSTAMP:20260425T100230
CREATED:20220922T020346Z
LAST-MODIFIED:20251111T214459Z
UID:10000969-1821121200-1821124800@libertybiblechurchky.org
SUMMARY:Men and Boys’ Bible Study
DESCRIPTION:We continue our study in Biblical Doctrine. All ages of men and boys are welcome.
URL:https://libertybiblechurchky.org/event/men-and-boys-bible-study/2027-09-16/
LOCATION:Liberty Bible Church\, 115 South Main Street\, Crittenden\, KY\, 41030\, United States
CATEGORIES:Men and Boys
ATTACH;FMTTYPE=image/jpeg:https://libertybiblechurchky.org/wp-content/uploads/biblical-doctrine_1600x900.jpg
END:VEVENT
BEGIN:VEVENT
DTSTART;TZID=America/Kentucky/Louisville:20270930T190000
DTEND;TZID=America/Kentucky/Louisville:20270930T200000
DTSTAMP:20260425T100230
CREATED:20220922T020346Z
LAST-MODIFIED:20251111T214459Z
UID:10000970-1822330800-1822334400@libertybiblechurchky.org
SUMMARY:Men and Boys’ Bible Study
DESCRIPTION:We continue our study in Biblical Doctrine. All ages of men and boys are welcome.
URL:https://libertybiblechurchky.org/event/men-and-boys-bible-study/2027-09-30/
LOCATION:Liberty Bible Church\, 115 South Main Street\, Crittenden\, KY\, 41030\, United States
CATEGORIES:Men and Boys
ATTACH;FMTTYPE=image/jpeg:https://libertybiblechurchky.org/wp-content/uploads/biblical-doctrine_1600x900.jpg
END:VEVENT
BEGIN:VEVENT
DTSTART;TZID=America/Kentucky/Louisville:20271014T190000
DTEND;TZID=America/Kentucky/Louisville:20271014T200000
DTSTAMP:20260425T100230
CREATED:20220922T020346Z
LAST-MODIFIED:20251111T214459Z
UID:10000971-1823540400-1823544000@libertybiblechurchky.org
SUMMARY:Men and Boys’ Bible Study
DESCRIPTION:We continue our study in Biblical Doctrine. All ages of men and boys are welcome.
URL:https://libertybiblechurchky.org/event/men-and-boys-bible-study/2027-10-14/
LOCATION:Liberty Bible Church\, 115 South Main Street\, Crittenden\, KY\, 41030\, United States
CATEGORIES:Men and Boys
ATTACH;FMTTYPE=image/jpeg:https://libertybiblechurchky.org/wp-content/uploads/biblical-doctrine_1600x900.jpg
END:VEVENT
BEGIN:VEVENT
DTSTART;TZID=America/Kentucky/Louisville:20271028T190000
DTEND;TZID=America/Kentucky/Louisville:20271028T200000
DTSTAMP:20260425T100230
CREATED:20220922T020346Z
LAST-MODIFIED:20251111T214459Z
UID:10000972-1824750000-1824753600@libertybiblechurchky.org
SUMMARY:Men and Boys’ Bible Study
DESCRIPTION:We continue our study in Biblical Doctrine. All ages of men and boys are welcome.
URL:https://libertybiblechurchky.org/event/men-and-boys-bible-study/2027-10-28/
LOCATION:Liberty Bible Church\, 115 South Main Street\, Crittenden\, KY\, 41030\, United States
CATEGORIES:Men and Boys
ATTACH;FMTTYPE=image/jpeg:https://libertybiblechurchky.org/wp-content/uploads/biblical-doctrine_1600x900.jpg
END:VEVENT
BEGIN:VEVENT
DTSTART;TZID=America/Kentucky/Louisville:20271111T190000
DTEND;TZID=America/Kentucky/Louisville:20271111T200000
DTSTAMP:20260425T100230
CREATED:20220922T020346Z
LAST-MODIFIED:20251111T214459Z
UID:10000973-1825959600-1825963200@libertybiblechurchky.org
SUMMARY:Men and Boys’ Bible Study
DESCRIPTION:We continue our study in Biblical Doctrine. All ages of men and boys are welcome.
URL:https://libertybiblechurchky.org/event/men-and-boys-bible-study/2027-11-11/
LOCATION:Liberty Bible Church\, 115 South Main Street\, Crittenden\, KY\, 41030\, United States
CATEGORIES:Men and Boys
ATTACH;FMTTYPE=image/jpeg:https://libertybiblechurchky.org/wp-content/uploads/biblical-doctrine_1600x900.jpg
END:VEVENT
BEGIN:VEVENT
DTSTART;TZID=America/Kentucky/Louisville:20271125T190000
DTEND;TZID=America/Kentucky/Louisville:20271125T200000
DTSTAMP:20260425T100230
CREATED:20220922T020346Z
LAST-MODIFIED:20251111T214459Z
UID:10000974-1827169200-1827172800@libertybiblechurchky.org
SUMMARY:Men and Boys’ Bible Study
DESCRIPTION:We continue our study in Biblical Doctrine. All ages of men and boys are welcome.
URL:https://libertybiblechurchky.org/event/men-and-boys-bible-study/2027-11-25/
LOCATION:Liberty Bible Church\, 115 South Main Street\, Crittenden\, KY\, 41030\, United States
CATEGORIES:Men and Boys
ATTACH;FMTTYPE=image/jpeg:https://libertybiblechurchky.org/wp-content/uploads/biblical-doctrine_1600x900.jpg
END:VEVENT
BEGIN:VEVENT
DTSTART;TZID=America/Kentucky/Louisville:20271209T190000
DTEND;TZID=America/Kentucky/Louisville:20271209T200000
DTSTAMP:20260425T100230
CREATED:20220922T020346Z
LAST-MODIFIED:20251111T214459Z
UID:10000975-1828378800-1828382400@libertybiblechurchky.org
SUMMARY:Men and Boys’ Bible Study
DESCRIPTION:We continue our study in Biblical Doctrine. All ages of men and boys are welcome.
URL:https://libertybiblechurchky.org/event/men-and-boys-bible-study/2027-12-09/
LOCATION:Liberty Bible Church\, 115 South Main Street\, Crittenden\, KY\, 41030\, United States
CATEGORIES:Men and Boys
ATTACH;FMTTYPE=image/jpeg:https://libertybiblechurchky.org/wp-content/uploads/biblical-doctrine_1600x900.jpg
END:VEVENT
BEGIN:VEVENT
DTSTART;TZID=America/Kentucky/Louisville:20271223T190000
DTEND;TZID=America/Kentucky/Louisville:20271223T200000
DTSTAMP:20260425T100230
CREATED:20220922T020346Z
LAST-MODIFIED:20251111T214459Z
UID:10000976-1829588400-1829592000@libertybiblechurchky.org
SUMMARY:Men and Boys’ Bible Study
DESCRIPTION:We continue our study in Biblical Doctrine. All ages of men and boys are welcome.
URL:https://libertybiblechurchky.org/event/men-and-boys-bible-study/2027-12-23/
LOCATION:Liberty Bible Church\, 115 South Main Street\, Crittenden\, KY\, 41030\, United States
CATEGORIES:Men and Boys
ATTACH;FMTTYPE=image/jpeg:https://libertybiblechurchky.org/wp-content/uploads/biblical-doctrine_1600x900.jpg
END:VEVENT
BEGIN:VEVENT
DTSTART;TZID=America/Kentucky/Louisville:20280106T190000
DTEND;TZID=America/Kentucky/Louisville:20280106T200000
DTSTAMP:20260425T100230
CREATED:20220922T020346Z
LAST-MODIFIED:20251111T214459Z
UID:10000977-1830798000-1830801600@libertybiblechurchky.org
SUMMARY:Men and Boys’ Bible Study
DESCRIPTION:We continue our study in Biblical Doctrine. All ages of men and boys are welcome.
URL:https://libertybiblechurchky.org/event/men-and-boys-bible-study/2028-01-06/
LOCATION:Liberty Bible Church\, 115 South Main Street\, Crittenden\, KY\, 41030\, United States
CATEGORIES:Men and Boys
ATTACH;FMTTYPE=image/jpeg:https://libertybiblechurchky.org/wp-content/uploads/biblical-doctrine_1600x900.jpg
END:VEVENT
BEGIN:VEVENT
DTSTART;TZID=America/Kentucky/Louisville:20280120T190000
DTEND;TZID=America/Kentucky/Louisville:20280120T200000
DTSTAMP:20260425T100230
CREATED:20220922T020346Z
LAST-MODIFIED:20251111T214459Z
UID:10000978-1832007600-1832011200@libertybiblechurchky.org
SUMMARY:Men and Boys’ Bible Study
DESCRIPTION:We continue our study in Biblical Doctrine. All ages of men and boys are welcome.
URL:https://libertybiblechurchky.org/event/men-and-boys-bible-study/2028-01-20/
LOCATION:Liberty Bible Church\, 115 South Main Street\, Crittenden\, KY\, 41030\, United States
CATEGORIES:Men and Boys
ATTACH;FMTTYPE=image/jpeg:https://libertybiblechurchky.org/wp-content/uploads/biblical-doctrine_1600x900.jpg
END:VEVENT
BEGIN:VEVENT
DTSTART;TZID=America/Kentucky/Louisville:20280203T190000
DTEND;TZID=America/Kentucky/Louisville:20280203T200000
DTSTAMP:20260425T100230
CREATED:20220922T020346Z
LAST-MODIFIED:20251111T214459Z
UID:10000979-1833217200-1833220800@libertybiblechurchky.org
SUMMARY:Men and Boys’ Bible Study
DESCRIPTION:We continue our study in Biblical Doctrine. All ages of men and boys are welcome.
URL:https://libertybiblechurchky.org/event/men-and-boys-bible-study/2028-02-03/
LOCATION:Liberty Bible Church\, 115 South Main Street\, Crittenden\, KY\, 41030\, United States
CATEGORIES:Men and Boys
ATTACH;FMTTYPE=image/jpeg:https://libertybiblechurchky.org/wp-content/uploads/biblical-doctrine_1600x900.jpg
END:VEVENT
BEGIN:VEVENT
DTSTART;TZID=America/Kentucky/Louisville:20280217T190000
DTEND;TZID=America/Kentucky/Louisville:20280217T200000
DTSTAMP:20260425T100230
CREATED:20220922T020346Z
LAST-MODIFIED:20251111T214459Z
UID:10000980-1834426800-1834430400@libertybiblechurchky.org
SUMMARY:Men and Boys’ Bible Study
DESCRIPTION:We continue our study in Biblical Doctrine. All ages of men and boys are welcome.
URL:https://libertybiblechurchky.org/event/men-and-boys-bible-study/2028-02-17/
LOCATION:Liberty Bible Church\, 115 South Main Street\, Crittenden\, KY\, 41030\, United States
CATEGORIES:Men and Boys
ATTACH;FMTTYPE=image/jpeg:https://libertybiblechurchky.org/wp-content/uploads/biblical-doctrine_1600x900.jpg
END:VEVENT
BEGIN:VEVENT
DTSTART;TZID=America/Kentucky/Louisville:20280302T190000
DTEND;TZID=America/Kentucky/Louisville:20280302T200000
DTSTAMP:20260425T100230
CREATED:20220922T020346Z
LAST-MODIFIED:20251111T214459Z
UID:10000981-1835636400-1835640000@libertybiblechurchky.org
SUMMARY:Men and Boys’ Bible Study
DESCRIPTION:We continue our study in Biblical Doctrine. All ages of men and boys are welcome.
URL:https://libertybiblechurchky.org/event/men-and-boys-bible-study/2028-03-02/
LOCATION:Liberty Bible Church\, 115 South Main Street\, Crittenden\, KY\, 41030\, United States
CATEGORIES:Men and Boys
ATTACH;FMTTYPE=image/jpeg:https://libertybiblechurchky.org/wp-content/uploads/biblical-doctrine_1600x900.jpg
END:VEVENT
BEGIN:VEVENT
DTSTART;TZID=America/Kentucky/Louisville:20280316T190000
DTEND;TZID=America/Kentucky/Louisville:20280316T200000
DTSTAMP:20260425T100230
CREATED:20220922T020346Z
LAST-MODIFIED:20251111T214459Z
UID:10000982-1836846000-1836849600@libertybiblechurchky.org
SUMMARY:Men and Boys’ Bible Study
DESCRIPTION:We continue our study in Biblical Doctrine. All ages of men and boys are welcome.
URL:https://libertybiblechurchky.org/event/men-and-boys-bible-study/2028-03-16/
LOCATION:Liberty Bible Church\, 115 South Main Street\, Crittenden\, KY\, 41030\, United States
CATEGORIES:Men and Boys
ATTACH;FMTTYPE=image/jpeg:https://libertybiblechurchky.org/wp-content/uploads/biblical-doctrine_1600x900.jpg
END:VEVENT
BEGIN:VEVENT
DTSTART;TZID=America/Kentucky/Louisville:20280330T190000
DTEND;TZID=America/Kentucky/Louisville:20280330T200000
DTSTAMP:20260425T100230
CREATED:20220922T020346Z
LAST-MODIFIED:20251111T214459Z
UID:10000983-1838055600-1838059200@libertybiblechurchky.org
SUMMARY:Men and Boys’ Bible Study
DESCRIPTION:We continue our study in Biblical Doctrine. All ages of men and boys are welcome.
URL:https://libertybiblechurchky.org/event/men-and-boys-bible-study/2028-03-30/
LOCATION:Liberty Bible Church\, 115 South Main Street\, Crittenden\, KY\, 41030\, United States
CATEGORIES:Men and Boys
ATTACH;FMTTYPE=image/jpeg:https://libertybiblechurchky.org/wp-content/uploads/biblical-doctrine_1600x900.jpg
END:VEVENT
BEGIN:VEVENT
DTSTART;TZID=America/Kentucky/Louisville:20280413T190000
DTEND;TZID=America/Kentucky/Louisville:20280413T200000
DTSTAMP:20260425T100230
CREATED:20220922T020346Z
LAST-MODIFIED:20251111T214459Z
UID:10000984-1839265200-1839268800@libertybiblechurchky.org
SUMMARY:Men and Boys’ Bible Study
DESCRIPTION:We continue our study in Biblical Doctrine. All ages of men and boys are welcome.
URL:https://libertybiblechurchky.org/event/men-and-boys-bible-study/2028-04-13/
LOCATION:Liberty Bible Church\, 115 South Main Street\, Crittenden\, KY\, 41030\, United States
CATEGORIES:Men and Boys
ATTACH;FMTTYPE=image/jpeg:https://libertybiblechurchky.org/wp-content/uploads/biblical-doctrine_1600x900.jpg
END:VEVENT
BEGIN:VEVENT
DTSTART;TZID=America/Kentucky/Louisville:20280427T190000
DTEND;TZID=America/Kentucky/Louisville:20280427T200000
DTSTAMP:20260425T100230
CREATED:20220922T020346Z
LAST-MODIFIED:20251111T214459Z
UID:10000985-1840474800-1840478400@libertybiblechurchky.org
SUMMARY:Men and Boys’ Bible Study
DESCRIPTION:We continue our study in Biblical Doctrine. All ages of men and boys are welcome.
URL:https://libertybiblechurchky.org/event/men-and-boys-bible-study/2028-04-27/
LOCATION:Liberty Bible Church\, 115 South Main Street\, Crittenden\, KY\, 41030\, United States
CATEGORIES:Men and Boys
ATTACH;FMTTYPE=image/jpeg:https://libertybiblechurchky.org/wp-content/uploads/biblical-doctrine_1600x900.jpg
END:VEVENT
BEGIN:VEVENT
DTSTART;TZID=America/Kentucky/Louisville:20280511T190000
DTEND;TZID=America/Kentucky/Louisville:20280511T200000
DTSTAMP:20260425T100230
CREATED:20220922T020346Z
LAST-MODIFIED:20251111T214459Z
UID:10000986-1841684400-1841688000@libertybiblechurchky.org
SUMMARY:Men and Boys’ Bible Study
DESCRIPTION:We continue our study in Biblical Doctrine. All ages of men and boys are welcome.
URL:https://libertybiblechurchky.org/event/men-and-boys-bible-study/2028-05-11/
LOCATION:Liberty Bible Church\, 115 South Main Street\, Crittenden\, KY\, 41030\, United States
CATEGORIES:Men and Boys
ATTACH;FMTTYPE=image/jpeg:https://libertybiblechurchky.org/wp-content/uploads/biblical-doctrine_1600x900.jpg
END:VEVENT
BEGIN:VEVENT
DTSTART;TZID=America/Kentucky/Louisville:20280525T190000
DTEND;TZID=America/Kentucky/Louisville:20280525T200000
DTSTAMP:20260425T100230
CREATED:20220922T020346Z
LAST-MODIFIED:20251111T214459Z
UID:10000987-1842894000-1842897600@libertybiblechurchky.org
SUMMARY:Men and Boys’ Bible Study
DESCRIPTION:We continue our study in Biblical Doctrine. All ages of men and boys are welcome.
URL:https://libertybiblechurchky.org/event/men-and-boys-bible-study/2028-05-25/
LOCATION:Liberty Bible Church\, 115 South Main Street\, Crittenden\, KY\, 41030\, United States
CATEGORIES:Men and Boys
ATTACH;FMTTYPE=image/jpeg:https://libertybiblechurchky.org/wp-content/uploads/biblical-doctrine_1600x900.jpg
END:VEVENT
BEGIN:VEVENT
DTSTART;TZID=America/Kentucky/Louisville:20280608T190000
DTEND;TZID=America/Kentucky/Louisville:20280608T200000
DTSTAMP:20260425T100230
CREATED:20220922T020346Z
LAST-MODIFIED:20251111T214459Z
UID:10000988-1844103600-1844107200@libertybiblechurchky.org
SUMMARY:Men and Boys’ Bible Study
DESCRIPTION:We continue our study in Biblical Doctrine. All ages of men and boys are welcome.
URL:https://libertybiblechurchky.org/event/men-and-boys-bible-study/2028-06-08/
LOCATION:Liberty Bible Church\, 115 South Main Street\, Crittenden\, KY\, 41030\, United States
CATEGORIES:Men and Boys
ATTACH;FMTTYPE=image/jpeg:https://libertybiblechurchky.org/wp-content/uploads/biblical-doctrine_1600x900.jpg
END:VEVENT
BEGIN:VEVENT
DTSTART;TZID=America/Kentucky/Louisville:20280622T190000
DTEND;TZID=America/Kentucky/Louisville:20280622T200000
DTSTAMP:20260425T100230
CREATED:20220922T020346Z
LAST-MODIFIED:20251111T214459Z
UID:10000989-1845313200-1845316800@libertybiblechurchky.org
SUMMARY:Men and Boys’ Bible Study
DESCRIPTION:We continue our study in Biblical Doctrine. All ages of men and boys are welcome.
URL:https://libertybiblechurchky.org/event/men-and-boys-bible-study/2028-06-22/
LOCATION:Liberty Bible Church\, 115 South Main Street\, Crittenden\, KY\, 41030\, United States
CATEGORIES:Men and Boys
ATTACH;FMTTYPE=image/jpeg:https://libertybiblechurchky.org/wp-content/uploads/biblical-doctrine_1600x900.jpg
END:VEVENT
BEGIN:VEVENT
DTSTART;TZID=America/Kentucky/Louisville:20280706T190000
DTEND;TZID=America/Kentucky/Louisville:20280706T200000
DTSTAMP:20260425T100230
CREATED:20220922T020346Z
LAST-MODIFIED:20251111T214459Z
UID:10000990-1846522800-1846526400@libertybiblechurchky.org
SUMMARY:Men and Boys’ Bible Study
DESCRIPTION:We continue our study in Biblical Doctrine. All ages of men and boys are welcome.
URL:https://libertybiblechurchky.org/event/men-and-boys-bible-study/2028-07-06/
LOCATION:Liberty Bible Church\, 115 South Main Street\, Crittenden\, KY\, 41030\, United States
CATEGORIES:Men and Boys
ATTACH;FMTTYPE=image/jpeg:https://libertybiblechurchky.org/wp-content/uploads/biblical-doctrine_1600x900.jpg
END:VEVENT
BEGIN:VEVENT
DTSTART;TZID=America/Kentucky/Louisville:20280720T190000
DTEND;TZID=America/Kentucky/Louisville:20280720T200000
DTSTAMP:20260425T100230
CREATED:20220922T020346Z
LAST-MODIFIED:20251111T214459Z
UID:10000991-1847732400-1847736000@libertybiblechurchky.org
SUMMARY:Men and Boys’ Bible Study
DESCRIPTION:We continue our study in Biblical Doctrine. All ages of men and boys are welcome.
URL:https://libertybiblechurchky.org/event/men-and-boys-bible-study/2028-07-20/
LOCATION:Liberty Bible Church\, 115 South Main Street\, Crittenden\, KY\, 41030\, United States
CATEGORIES:Men and Boys
ATTACH;FMTTYPE=image/jpeg:https://libertybiblechurchky.org/wp-content/uploads/biblical-doctrine_1600x900.jpg
END:VEVENT
BEGIN:VEVENT
DTSTART;TZID=America/Kentucky/Louisville:20280803T190000
DTEND;TZID=America/Kentucky/Louisville:20280803T200000
DTSTAMP:20260425T100230
CREATED:20220922T020346Z
LAST-MODIFIED:20251111T214459Z
UID:10000992-1848942000-1848945600@libertybiblechurchky.org
SUMMARY:Men and Boys’ Bible Study
DESCRIPTION:We continue our study in Biblical Doctrine. All ages of men and boys are welcome.
URL:https://libertybiblechurchky.org/event/men-and-boys-bible-study/2028-08-03/
LOCATION:Liberty Bible Church\, 115 South Main Street\, Crittenden\, KY\, 41030\, United States
CATEGORIES:Men and Boys
ATTACH;FMTTYPE=image/jpeg:https://libertybiblechurchky.org/wp-content/uploads/biblical-doctrine_1600x900.jpg
END:VEVENT
BEGIN:VEVENT
DTSTART;TZID=America/Kentucky/Louisville:20280817T190000
DTEND;TZID=America/Kentucky/Louisville:20280817T200000
DTSTAMP:20260425T100230
CREATED:20220922T020346Z
LAST-MODIFIED:20251111T214459Z
UID:10000993-1850151600-1850155200@libertybiblechurchky.org
SUMMARY:Men and Boys’ Bible Study
DESCRIPTION:We continue our study in Biblical Doctrine. All ages of men and boys are welcome.
URL:https://libertybiblechurchky.org/event/men-and-boys-bible-study/2028-08-17/
LOCATION:Liberty Bible Church\, 115 South Main Street\, Crittenden\, KY\, 41030\, United States
CATEGORIES:Men and Boys
ATTACH;FMTTYPE=image/jpeg:https://libertybiblechurchky.org/wp-content/uploads/biblical-doctrine_1600x900.jpg
END:VEVENT
BEGIN:VEVENT
DTSTART;TZID=America/Kentucky/Louisville:20280831T190000
DTEND;TZID=America/Kentucky/Louisville:20280831T200000
DTSTAMP:20260425T100230
CREATED:20220922T020346Z
LAST-MODIFIED:20251111T214459Z
UID:10000994-1851361200-1851364800@libertybiblechurchky.org
SUMMARY:Men and Boys’ Bible Study
DESCRIPTION:We continue our study in Biblical Doctrine. All ages of men and boys are welcome.
URL:https://libertybiblechurchky.org/event/men-and-boys-bible-study/2028-08-31/
LOCATION:Liberty Bible Church\, 115 South Main Street\, Crittenden\, KY\, 41030\, United States
CATEGORIES:Men and Boys
ATTACH;FMTTYPE=image/jpeg:https://libertybiblechurchky.org/wp-content/uploads/biblical-doctrine_1600x900.jpg
END:VEVENT
BEGIN:VEVENT
DTSTART;TZID=America/Kentucky/Louisville:20280914T190000
DTEND;TZID=America/Kentucky/Louisville:20280914T200000
DTSTAMP:20260425T100230
CREATED:20220922T020346Z
LAST-MODIFIED:20251111T214459Z
UID:10000995-1852570800-1852574400@libertybiblechurchky.org
SUMMARY:Men and Boys’ Bible Study
DESCRIPTION:We continue our study in Biblical Doctrine. All ages of men and boys are welcome.
URL:https://libertybiblechurchky.org/event/men-and-boys-bible-study/2028-09-14/
LOCATION:Liberty Bible Church\, 115 South Main Street\, Crittenden\, KY\, 41030\, United States
CATEGORIES:Men and Boys
ATTACH;FMTTYPE=image/jpeg:https://libertybiblechurchky.org/wp-content/uploads/biblical-doctrine_1600x900.jpg
END:VEVENT
BEGIN:VEVENT
DTSTART;TZID=America/Kentucky/Louisville:20280928T190000
DTEND;TZID=America/Kentucky/Louisville:20280928T200000
DTSTAMP:20260425T100230
CREATED:20220922T020346Z
LAST-MODIFIED:20251111T214459Z
UID:10000996-1853780400-1853784000@libertybiblechurchky.org
SUMMARY:Men and Boys’ Bible Study
DESCRIPTION:We continue our study in Biblical Doctrine. All ages of men and boys are welcome.
URL:https://libertybiblechurchky.org/event/men-and-boys-bible-study/2028-09-28/
LOCATION:Liberty Bible Church\, 115 South Main Street\, Crittenden\, KY\, 41030\, United States
CATEGORIES:Men and Boys
ATTACH;FMTTYPE=image/jpeg:https://libertybiblechurchky.org/wp-content/uploads/biblical-doctrine_1600x900.jpg
END:VEVENT
BEGIN:VEVENT
DTSTART;TZID=America/Kentucky/Louisville:20281012T190000
DTEND;TZID=America/Kentucky/Louisville:20281012T200000
DTSTAMP:20260425T100230
CREATED:20220922T020346Z
LAST-MODIFIED:20251111T214459Z
UID:10000997-1854990000-1854993600@libertybiblechurchky.org
SUMMARY:Men and Boys’ Bible Study
DESCRIPTION:We continue our study in Biblical Doctrine. All ages of men and boys are welcome.
URL:https://libertybiblechurchky.org/event/men-and-boys-bible-study/2028-10-12/
LOCATION:Liberty Bible Church\, 115 South Main Street\, Crittenden\, KY\, 41030\, United States
CATEGORIES:Men and Boys
ATTACH;FMTTYPE=image/jpeg:https://libertybiblechurchky.org/wp-content/uploads/biblical-doctrine_1600x900.jpg
END:VEVENT
END:VCALENDAR