BEGIN:VCALENDAR
VERSION:2.0
PRODID:-//Liberty Bible Church - ECPv6.15.20//NONSGML v1.0//EN
CALSCALE:GREGORIAN
METHOD:PUBLISH
X-ORIGINAL-URL:https://libertybiblechurchky.org
X-WR-CALDESC:Events for Liberty Bible Church
REFRESH-INTERVAL;VALUE=DURATION:PT1H
X-Robots-Tag:noindex
X-PUBLISHED-TTL:PT1H
BEGIN:VTIMEZONE
TZID:America/Kentucky/Louisville
BEGIN:DAYLIGHT
TZOFFSETFROM:-0500
TZOFFSETTO:-0400
TZNAME:EDT
DTSTART:20290311T070000
END:DAYLIGHT
BEGIN:STANDARD
TZOFFSETFROM:-0400
TZOFFSETTO:-0500
TZNAME:EST
DTSTART:20291104T060000
END:STANDARD
BEGIN:DAYLIGHT
TZOFFSETFROM:-0500
TZOFFSETTO:-0400
TZNAME:EDT
DTSTART:20300310T070000
END:DAYLIGHT
BEGIN:STANDARD
TZOFFSETFROM:-0400
TZOFFSETTO:-0500
TZNAME:EST
DTSTART:20301103T060000
END:STANDARD
BEGIN:DAYLIGHT
TZOFFSETFROM:-0500
TZOFFSETTO:-0400
TZNAME:EDT
DTSTART:20310309T070000
END:DAYLIGHT
BEGIN:STANDARD
TZOFFSETFROM:-0400
TZOFFSETTO:-0500
TZNAME:EST
DTSTART:20311102T060000
END:STANDARD
BEGIN:DAYLIGHT
TZOFFSETFROM:-0500
TZOFFSETTO:-0400
TZNAME:EDT
DTSTART:20320314T070000
END:DAYLIGHT
BEGIN:STANDARD
TZOFFSETFROM:-0400
TZOFFSETTO:-0500
TZNAME:EST
DTSTART:20321107T060000
END:STANDARD
END:VTIMEZONE
BEGIN:VEVENT
DTSTART;TZID=America/Kentucky/Louisville:20300704T190000
DTEND;TZID=America/Kentucky/Louisville:20300704T200000
DTSTAMP:20260425T124953
CREATED:20220922T020346Z
LAST-MODIFIED:20251111T214459Z
UID:10002220-1909422000-1909425600@libertybiblechurchky.org
SUMMARY:Men and Boys’ Bible Study
DESCRIPTION:We continue our study in Biblical Doctrine. All ages of men and boys are welcome.
URL:https://libertybiblechurchky.org/event/men-and-boys-bible-study/2030-07-04/
LOCATION:Liberty Bible Church\, 115 South Main Street\, Crittenden\, KY\, 41030\, United States
CATEGORIES:Men and Boys
ATTACH;FMTTYPE=image/jpeg:https://libertybiblechurchky.org/wp-content/uploads/biblical-doctrine_1600x900.jpg
END:VEVENT
BEGIN:VEVENT
DTSTART;TZID=America/Kentucky/Louisville:20300718T190000
DTEND;TZID=America/Kentucky/Louisville:20300718T200000
DTSTAMP:20260425T124953
CREATED:20220922T020346Z
LAST-MODIFIED:20251111T214459Z
UID:10002231-1910631600-1910635200@libertybiblechurchky.org
SUMMARY:Men and Boys’ Bible Study
DESCRIPTION:We continue our study in Biblical Doctrine. All ages of men and boys are welcome.
URL:https://libertybiblechurchky.org/event/men-and-boys-bible-study/2030-07-18/
LOCATION:Liberty Bible Church\, 115 South Main Street\, Crittenden\, KY\, 41030\, United States
CATEGORIES:Men and Boys
ATTACH;FMTTYPE=image/jpeg:https://libertybiblechurchky.org/wp-content/uploads/biblical-doctrine_1600x900.jpg
END:VEVENT
BEGIN:VEVENT
DTSTART;TZID=America/Kentucky/Louisville:20300801T190000
DTEND;TZID=America/Kentucky/Louisville:20300801T200000
DTSTAMP:20260425T124953
CREATED:20220922T020346Z
LAST-MODIFIED:20251111T214459Z
UID:10002237-1911841200-1911844800@libertybiblechurchky.org
SUMMARY:Men and Boys’ Bible Study
DESCRIPTION:We continue our study in Biblical Doctrine. All ages of men and boys are welcome.
URL:https://libertybiblechurchky.org/event/men-and-boys-bible-study/2030-08-01/
LOCATION:Liberty Bible Church\, 115 South Main Street\, Crittenden\, KY\, 41030\, United States
CATEGORIES:Men and Boys
ATTACH;FMTTYPE=image/jpeg:https://libertybiblechurchky.org/wp-content/uploads/biblical-doctrine_1600x900.jpg
END:VEVENT
BEGIN:VEVENT
DTSTART;TZID=America/Kentucky/Louisville:20300815T190000
DTEND;TZID=America/Kentucky/Louisville:20300815T200000
DTSTAMP:20260425T124953
CREATED:20220922T020346Z
LAST-MODIFIED:20251111T214459Z
UID:10002251-1913050800-1913054400@libertybiblechurchky.org
SUMMARY:Men and Boys’ Bible Study
DESCRIPTION:We continue our study in Biblical Doctrine. All ages of men and boys are welcome.
URL:https://libertybiblechurchky.org/event/men-and-boys-bible-study/2030-08-15/
LOCATION:Liberty Bible Church\, 115 South Main Street\, Crittenden\, KY\, 41030\, United States
CATEGORIES:Men and Boys
ATTACH;FMTTYPE=image/jpeg:https://libertybiblechurchky.org/wp-content/uploads/biblical-doctrine_1600x900.jpg
END:VEVENT
BEGIN:VEVENT
DTSTART;TZID=America/Kentucky/Louisville:20300829T190000
DTEND;TZID=America/Kentucky/Louisville:20300829T200000
DTSTAMP:20260425T124953
CREATED:20220922T020346Z
LAST-MODIFIED:20251111T214459Z
UID:10002257-1914260400-1914264000@libertybiblechurchky.org
SUMMARY:Men and Boys’ Bible Study
DESCRIPTION:We continue our study in Biblical Doctrine. All ages of men and boys are welcome.
URL:https://libertybiblechurchky.org/event/men-and-boys-bible-study/2030-08-29/
LOCATION:Liberty Bible Church\, 115 South Main Street\, Crittenden\, KY\, 41030\, United States
CATEGORIES:Men and Boys
ATTACH;FMTTYPE=image/jpeg:https://libertybiblechurchky.org/wp-content/uploads/biblical-doctrine_1600x900.jpg
END:VEVENT
BEGIN:VEVENT
DTSTART;TZID=America/Kentucky/Louisville:20300912T190000
DTEND;TZID=America/Kentucky/Louisville:20300912T200000
DTSTAMP:20260425T124953
CREATED:20220922T020346Z
LAST-MODIFIED:20251111T214459Z
UID:10002265-1915470000-1915473600@libertybiblechurchky.org
SUMMARY:Men and Boys’ Bible Study
DESCRIPTION:We continue our study in Biblical Doctrine. All ages of men and boys are welcome.
URL:https://libertybiblechurchky.org/event/men-and-boys-bible-study/2030-09-12/
LOCATION:Liberty Bible Church\, 115 South Main Street\, Crittenden\, KY\, 41030\, United States
CATEGORIES:Men and Boys
ATTACH;FMTTYPE=image/jpeg:https://libertybiblechurchky.org/wp-content/uploads/biblical-doctrine_1600x900.jpg
END:VEVENT
BEGIN:VEVENT
DTSTART;TZID=America/Kentucky/Louisville:20300926T190000
DTEND;TZID=America/Kentucky/Louisville:20300926T200000
DTSTAMP:20260425T124953
CREATED:20220922T020346Z
LAST-MODIFIED:20251111T214459Z
UID:10002270-1916679600-1916683200@libertybiblechurchky.org
SUMMARY:Men and Boys’ Bible Study
DESCRIPTION:We continue our study in Biblical Doctrine. All ages of men and boys are welcome.
URL:https://libertybiblechurchky.org/event/men-and-boys-bible-study/2030-09-26/
LOCATION:Liberty Bible Church\, 115 South Main Street\, Crittenden\, KY\, 41030\, United States
CATEGORIES:Men and Boys
ATTACH;FMTTYPE=image/jpeg:https://libertybiblechurchky.org/wp-content/uploads/biblical-doctrine_1600x900.jpg
END:VEVENT
BEGIN:VEVENT
DTSTART;TZID=America/Kentucky/Louisville:20301010T190000
DTEND;TZID=America/Kentucky/Louisville:20301010T200000
DTSTAMP:20260425T124953
CREATED:20220922T020346Z
LAST-MODIFIED:20251111T214459Z
UID:10002275-1917889200-1917892800@libertybiblechurchky.org
SUMMARY:Men and Boys’ Bible Study
DESCRIPTION:We continue our study in Biblical Doctrine. All ages of men and boys are welcome.
URL:https://libertybiblechurchky.org/event/men-and-boys-bible-study/2030-10-10/
LOCATION:Liberty Bible Church\, 115 South Main Street\, Crittenden\, KY\, 41030\, United States
CATEGORIES:Men and Boys
ATTACH;FMTTYPE=image/jpeg:https://libertybiblechurchky.org/wp-content/uploads/biblical-doctrine_1600x900.jpg
END:VEVENT
BEGIN:VEVENT
DTSTART;TZID=America/Kentucky/Louisville:20301024T190000
DTEND;TZID=America/Kentucky/Louisville:20301024T200000
DTSTAMP:20260425T124953
CREATED:20220922T020346Z
LAST-MODIFIED:20251111T214459Z
UID:10002280-1919098800-1919102400@libertybiblechurchky.org
SUMMARY:Men and Boys’ Bible Study
DESCRIPTION:We continue our study in Biblical Doctrine. All ages of men and boys are welcome.
URL:https://libertybiblechurchky.org/event/men-and-boys-bible-study/2030-10-24/
LOCATION:Liberty Bible Church\, 115 South Main Street\, Crittenden\, KY\, 41030\, United States
CATEGORIES:Men and Boys
ATTACH;FMTTYPE=image/jpeg:https://libertybiblechurchky.org/wp-content/uploads/biblical-doctrine_1600x900.jpg
END:VEVENT
BEGIN:VEVENT
DTSTART;TZID=America/Kentucky/Louisville:20301107T190000
DTEND;TZID=America/Kentucky/Louisville:20301107T200000
DTSTAMP:20260425T124953
CREATED:20220922T020346Z
LAST-MODIFIED:20251111T214459Z
UID:10002284-1920308400-1920312000@libertybiblechurchky.org
SUMMARY:Men and Boys’ Bible Study
DESCRIPTION:We continue our study in Biblical Doctrine. All ages of men and boys are welcome.
URL:https://libertybiblechurchky.org/event/men-and-boys-bible-study/2030-11-07/
LOCATION:Liberty Bible Church\, 115 South Main Street\, Crittenden\, KY\, 41030\, United States
CATEGORIES:Men and Boys
ATTACH;FMTTYPE=image/jpeg:https://libertybiblechurchky.org/wp-content/uploads/biblical-doctrine_1600x900.jpg
END:VEVENT
BEGIN:VEVENT
DTSTART;TZID=America/Kentucky/Louisville:20301121T190000
DTEND;TZID=America/Kentucky/Louisville:20301121T200000
DTSTAMP:20260425T124953
CREATED:20220922T020346Z
LAST-MODIFIED:20251111T214459Z
UID:10002305-1921518000-1921521600@libertybiblechurchky.org
SUMMARY:Men and Boys’ Bible Study
DESCRIPTION:We continue our study in Biblical Doctrine. All ages of men and boys are welcome.
URL:https://libertybiblechurchky.org/event/men-and-boys-bible-study/2030-11-21/
LOCATION:Liberty Bible Church\, 115 South Main Street\, Crittenden\, KY\, 41030\, United States
CATEGORIES:Men and Boys
ATTACH;FMTTYPE=image/jpeg:https://libertybiblechurchky.org/wp-content/uploads/biblical-doctrine_1600x900.jpg
END:VEVENT
BEGIN:VEVENT
DTSTART;TZID=America/Kentucky/Louisville:20301205T190000
DTEND;TZID=America/Kentucky/Louisville:20301205T200000
DTSTAMP:20260425T124953
CREATED:20220922T020346Z
LAST-MODIFIED:20251111T214459Z
UID:10002310-1922727600-1922731200@libertybiblechurchky.org
SUMMARY:Men and Boys’ Bible Study
DESCRIPTION:We continue our study in Biblical Doctrine. All ages of men and boys are welcome.
URL:https://libertybiblechurchky.org/event/men-and-boys-bible-study/2030-12-05/
LOCATION:Liberty Bible Church\, 115 South Main Street\, Crittenden\, KY\, 41030\, United States
CATEGORIES:Men and Boys
ATTACH;FMTTYPE=image/jpeg:https://libertybiblechurchky.org/wp-content/uploads/biblical-doctrine_1600x900.jpg
END:VEVENT
BEGIN:VEVENT
DTSTART;TZID=America/Kentucky/Louisville:20301219T190000
DTEND;TZID=America/Kentucky/Louisville:20301219T200000
DTSTAMP:20260425T124953
CREATED:20220922T020346Z
LAST-MODIFIED:20251111T214459Z
UID:10002340-1923937200-1923940800@libertybiblechurchky.org
SUMMARY:Men and Boys’ Bible Study
DESCRIPTION:We continue our study in Biblical Doctrine. All ages of men and boys are welcome.
URL:https://libertybiblechurchky.org/event/men-and-boys-bible-study/2030-12-19/
LOCATION:Liberty Bible Church\, 115 South Main Street\, Crittenden\, KY\, 41030\, United States
CATEGORIES:Men and Boys
ATTACH;FMTTYPE=image/jpeg:https://libertybiblechurchky.org/wp-content/uploads/biblical-doctrine_1600x900.jpg
END:VEVENT
BEGIN:VEVENT
DTSTART;TZID=America/Kentucky/Louisville:20310102T190000
DTEND;TZID=America/Kentucky/Louisville:20310102T200000
DTSTAMP:20260425T124953
CREATED:20220922T020346Z
LAST-MODIFIED:20251111T214459Z
UID:10002341-1925146800-1925150400@libertybiblechurchky.org
SUMMARY:Men and Boys’ Bible Study
DESCRIPTION:We continue our study in Biblical Doctrine. All ages of men and boys are welcome.
URL:https://libertybiblechurchky.org/event/men-and-boys-bible-study/2031-01-02/
LOCATION:Liberty Bible Church\, 115 South Main Street\, Crittenden\, KY\, 41030\, United States
CATEGORIES:Men and Boys
ATTACH;FMTTYPE=image/jpeg:https://libertybiblechurchky.org/wp-content/uploads/biblical-doctrine_1600x900.jpg
END:VEVENT
BEGIN:VEVENT
DTSTART;TZID=America/Kentucky/Louisville:20310116T190000
DTEND;TZID=America/Kentucky/Louisville:20310116T200000
DTSTAMP:20260425T124953
CREATED:20220922T020346Z
LAST-MODIFIED:20251111T214459Z
UID:10002342-1926356400-1926360000@libertybiblechurchky.org
SUMMARY:Men and Boys’ Bible Study
DESCRIPTION:We continue our study in Biblical Doctrine. All ages of men and boys are welcome.
URL:https://libertybiblechurchky.org/event/men-and-boys-bible-study/2031-01-16/
LOCATION:Liberty Bible Church\, 115 South Main Street\, Crittenden\, KY\, 41030\, United States
CATEGORIES:Men and Boys
ATTACH;FMTTYPE=image/jpeg:https://libertybiblechurchky.org/wp-content/uploads/biblical-doctrine_1600x900.jpg
END:VEVENT
BEGIN:VEVENT
DTSTART;TZID=America/Kentucky/Louisville:20310130T190000
DTEND;TZID=America/Kentucky/Louisville:20310130T200000
DTSTAMP:20260425T124953
CREATED:20220922T020346Z
LAST-MODIFIED:20251111T214459Z
UID:10002343-1927566000-1927569600@libertybiblechurchky.org
SUMMARY:Men and Boys’ Bible Study
DESCRIPTION:We continue our study in Biblical Doctrine. All ages of men and boys are welcome.
URL:https://libertybiblechurchky.org/event/men-and-boys-bible-study/2031-01-30/
LOCATION:Liberty Bible Church\, 115 South Main Street\, Crittenden\, KY\, 41030\, United States
CATEGORIES:Men and Boys
ATTACH;FMTTYPE=image/jpeg:https://libertybiblechurchky.org/wp-content/uploads/biblical-doctrine_1600x900.jpg
END:VEVENT
BEGIN:VEVENT
DTSTART;TZID=America/Kentucky/Louisville:20310213T190000
DTEND;TZID=America/Kentucky/Louisville:20310213T200000
DTSTAMP:20260425T124953
CREATED:20220922T020346Z
LAST-MODIFIED:20251111T214459Z
UID:10002347-1928775600-1928779200@libertybiblechurchky.org
SUMMARY:Men and Boys’ Bible Study
DESCRIPTION:We continue our study in Biblical Doctrine. All ages of men and boys are welcome.
URL:https://libertybiblechurchky.org/event/men-and-boys-bible-study/2031-02-13/
LOCATION:Liberty Bible Church\, 115 South Main Street\, Crittenden\, KY\, 41030\, United States
CATEGORIES:Men and Boys
ATTACH;FMTTYPE=image/jpeg:https://libertybiblechurchky.org/wp-content/uploads/biblical-doctrine_1600x900.jpg
END:VEVENT
BEGIN:VEVENT
DTSTART;TZID=America/Kentucky/Louisville:20310227T190000
DTEND;TZID=America/Kentucky/Louisville:20310227T200000
DTSTAMP:20260425T124953
CREATED:20220922T020346Z
LAST-MODIFIED:20251111T214459Z
UID:10002353-1929985200-1929988800@libertybiblechurchky.org
SUMMARY:Men and Boys’ Bible Study
DESCRIPTION:We continue our study in Biblical Doctrine. All ages of men and boys are welcome.
URL:https://libertybiblechurchky.org/event/men-and-boys-bible-study/2031-02-27/
LOCATION:Liberty Bible Church\, 115 South Main Street\, Crittenden\, KY\, 41030\, United States
CATEGORIES:Men and Boys
ATTACH;FMTTYPE=image/jpeg:https://libertybiblechurchky.org/wp-content/uploads/biblical-doctrine_1600x900.jpg
END:VEVENT
BEGIN:VEVENT
DTSTART;TZID=America/Kentucky/Louisville:20310313T190000
DTEND;TZID=America/Kentucky/Louisville:20310313T200000
DTSTAMP:20260425T124953
CREATED:20220922T020346Z
LAST-MODIFIED:20251111T214459Z
UID:10002360-1931194800-1931198400@libertybiblechurchky.org
SUMMARY:Men and Boys’ Bible Study
DESCRIPTION:We continue our study in Biblical Doctrine. All ages of men and boys are welcome.
URL:https://libertybiblechurchky.org/event/men-and-boys-bible-study/2031-03-13/
LOCATION:Liberty Bible Church\, 115 South Main Street\, Crittenden\, KY\, 41030\, United States
CATEGORIES:Men and Boys
ATTACH;FMTTYPE=image/jpeg:https://libertybiblechurchky.org/wp-content/uploads/biblical-doctrine_1600x900.jpg
END:VEVENT
BEGIN:VEVENT
DTSTART;TZID=America/Kentucky/Louisville:20310327T190000
DTEND;TZID=America/Kentucky/Louisville:20310327T200000
DTSTAMP:20260425T124953
CREATED:20220922T020346Z
LAST-MODIFIED:20251111T214459Z
UID:10002365-1932404400-1932408000@libertybiblechurchky.org
SUMMARY:Men and Boys’ Bible Study
DESCRIPTION:We continue our study in Biblical Doctrine. All ages of men and boys are welcome.
URL:https://libertybiblechurchky.org/event/men-and-boys-bible-study/2031-03-27/
LOCATION:Liberty Bible Church\, 115 South Main Street\, Crittenden\, KY\, 41030\, United States
CATEGORIES:Men and Boys
ATTACH;FMTTYPE=image/jpeg:https://libertybiblechurchky.org/wp-content/uploads/biblical-doctrine_1600x900.jpg
END:VEVENT
BEGIN:VEVENT
DTSTART;TZID=America/Kentucky/Louisville:20310410T190000
DTEND;TZID=America/Kentucky/Louisville:20310410T200000
DTSTAMP:20260425T124953
CREATED:20220922T020346Z
LAST-MODIFIED:20251111T214459Z
UID:10002370-1933614000-1933617600@libertybiblechurchky.org
SUMMARY:Men and Boys’ Bible Study
DESCRIPTION:We continue our study in Biblical Doctrine. All ages of men and boys are welcome.
URL:https://libertybiblechurchky.org/event/men-and-boys-bible-study/2031-04-10/
LOCATION:Liberty Bible Church\, 115 South Main Street\, Crittenden\, KY\, 41030\, United States
CATEGORIES:Men and Boys
ATTACH;FMTTYPE=image/jpeg:https://libertybiblechurchky.org/wp-content/uploads/biblical-doctrine_1600x900.jpg
END:VEVENT
END:VCALENDAR