BEGIN:VCALENDAR
VERSION:2.0
PRODID:-//Liberty Bible Church - ECPv6.15.20//NONSGML v1.0//EN
CALSCALE:GREGORIAN
METHOD:PUBLISH
X-WR-CALNAME:Liberty Bible Church
X-ORIGINAL-URL:https://libertybiblechurchky.org
X-WR-CALDESC:Events for Liberty Bible Church
REFRESH-INTERVAL;VALUE=DURATION:PT1H
X-Robots-Tag:noindex
X-PUBLISHED-TTL:PT1H
BEGIN:VTIMEZONE
TZID:America/Kentucky/Louisville
BEGIN:DAYLIGHT
TZOFFSETFROM:-0500
TZOFFSETTO:-0400
TZNAME:EDT
DTSTART:20250309T070000
END:DAYLIGHT
BEGIN:STANDARD
TZOFFSETFROM:-0400
TZOFFSETTO:-0500
TZNAME:EST
DTSTART:20251102T060000
END:STANDARD
BEGIN:DAYLIGHT
TZOFFSETFROM:-0500
TZOFFSETTO:-0400
TZNAME:EDT
DTSTART:20260308T070000
END:DAYLIGHT
BEGIN:STANDARD
TZOFFSETFROM:-0400
TZOFFSETTO:-0500
TZNAME:EST
DTSTART:20261101T060000
END:STANDARD
BEGIN:DAYLIGHT
TZOFFSETFROM:-0500
TZOFFSETTO:-0400
TZNAME:EDT
DTSTART:20270314T070000
END:DAYLIGHT
BEGIN:STANDARD
TZOFFSETFROM:-0400
TZOFFSETTO:-0500
TZNAME:EST
DTSTART:20271107T060000
END:STANDARD
BEGIN:DAYLIGHT
TZOFFSETFROM:-0500
TZOFFSETTO:-0400
TZNAME:EDT
DTSTART:20280312T070000
END:DAYLIGHT
BEGIN:STANDARD
TZOFFSETFROM:-0400
TZOFFSETTO:-0500
TZNAME:EST
DTSTART:20281105T060000
END:STANDARD
END:VTIMEZONE
BEGIN:VEVENT
DTSTART;TZID=America/Kentucky/Louisville:20260430T190000
DTEND;TZID=America/Kentucky/Louisville:20260430T200000
DTSTAMP:20260424T181958
CREATED:20220922T020346Z
LAST-MODIFIED:20251111T214459Z
UID:10000933-1777575600-1777579200@libertybiblechurchky.org
SUMMARY:Men and Boys’ Bible Study
DESCRIPTION:We continue our study in Biblical Doctrine. All ages of men and boys are welcome.
URL:https://libertybiblechurchky.org/event/men-and-boys-bible-study/2026-04-30/
LOCATION:Liberty Bible Church\, 115 South Main Street\, Crittenden\, KY\, 41030\, United States
CATEGORIES:Men and Boys
ATTACH;FMTTYPE=image/jpeg:https://libertybiblechurchky.org/wp-content/uploads/biblical-doctrine_1600x900.jpg
END:VEVENT
BEGIN:VEVENT
DTSTART;TZID=America/Kentucky/Louisville:20260514T190000
DTEND;TZID=America/Kentucky/Louisville:20260514T200000
DTSTAMP:20260424T181958
CREATED:20220922T020346Z
LAST-MODIFIED:20251111T214459Z
UID:10000934-1778785200-1778788800@libertybiblechurchky.org
SUMMARY:Men and Boys’ Bible Study
DESCRIPTION:We continue our study in Biblical Doctrine. All ages of men and boys are welcome.
URL:https://libertybiblechurchky.org/event/men-and-boys-bible-study/2026-05-14/
LOCATION:Liberty Bible Church\, 115 South Main Street\, Crittenden\, KY\, 41030\, United States
CATEGORIES:Men and Boys
ATTACH;FMTTYPE=image/jpeg:https://libertybiblechurchky.org/wp-content/uploads/biblical-doctrine_1600x900.jpg
END:VEVENT
BEGIN:VEVENT
DTSTART;TZID=America/Kentucky/Louisville:20260528T190000
DTEND;TZID=America/Kentucky/Louisville:20260528T200000
DTSTAMP:20260424T181958
CREATED:20220922T020346Z
LAST-MODIFIED:20251111T214459Z
UID:10000935-1779994800-1779998400@libertybiblechurchky.org
SUMMARY:Men and Boys’ Bible Study
DESCRIPTION:We continue our study in Biblical Doctrine. All ages of men and boys are welcome.
URL:https://libertybiblechurchky.org/event/men-and-boys-bible-study/2026-05-28/
LOCATION:Liberty Bible Church\, 115 South Main Street\, Crittenden\, KY\, 41030\, United States
CATEGORIES:Men and Boys
ATTACH;FMTTYPE=image/jpeg:https://libertybiblechurchky.org/wp-content/uploads/biblical-doctrine_1600x900.jpg
END:VEVENT
BEGIN:VEVENT
DTSTART;TZID=America/Kentucky/Louisville:20260611T190000
DTEND;TZID=America/Kentucky/Louisville:20260611T200000
DTSTAMP:20260424T181958
CREATED:20220922T020346Z
LAST-MODIFIED:20251111T214459Z
UID:10000936-1781204400-1781208000@libertybiblechurchky.org
SUMMARY:Men and Boys’ Bible Study
DESCRIPTION:We continue our study in Biblical Doctrine. All ages of men and boys are welcome.
URL:https://libertybiblechurchky.org/event/men-and-boys-bible-study/2026-06-11/
LOCATION:Liberty Bible Church\, 115 South Main Street\, Crittenden\, KY\, 41030\, United States
CATEGORIES:Men and Boys
ATTACH;FMTTYPE=image/jpeg:https://libertybiblechurchky.org/wp-content/uploads/biblical-doctrine_1600x900.jpg
END:VEVENT
BEGIN:VEVENT
DTSTART;TZID=America/Kentucky/Louisville:20260625T190000
DTEND;TZID=America/Kentucky/Louisville:20260625T200000
DTSTAMP:20260424T181958
CREATED:20220922T020346Z
LAST-MODIFIED:20251111T214459Z
UID:10000937-1782414000-1782417600@libertybiblechurchky.org
SUMMARY:Men and Boys’ Bible Study
DESCRIPTION:We continue our study in Biblical Doctrine. All ages of men and boys are welcome.
URL:https://libertybiblechurchky.org/event/men-and-boys-bible-study/2026-06-25/
LOCATION:Liberty Bible Church\, 115 South Main Street\, Crittenden\, KY\, 41030\, United States
CATEGORIES:Men and Boys
ATTACH;FMTTYPE=image/jpeg:https://libertybiblechurchky.org/wp-content/uploads/biblical-doctrine_1600x900.jpg
END:VEVENT
BEGIN:VEVENT
DTSTART;TZID=America/Kentucky/Louisville:20260709T190000
DTEND;TZID=America/Kentucky/Louisville:20260709T200000
DTSTAMP:20260424T181958
CREATED:20220922T020346Z
LAST-MODIFIED:20251111T214459Z
UID:10000938-1783623600-1783627200@libertybiblechurchky.org
SUMMARY:Men and Boys’ Bible Study
DESCRIPTION:We continue our study in Biblical Doctrine. All ages of men and boys are welcome.
URL:https://libertybiblechurchky.org/event/men-and-boys-bible-study/2026-07-09/
LOCATION:Liberty Bible Church\, 115 South Main Street\, Crittenden\, KY\, 41030\, United States
CATEGORIES:Men and Boys
ATTACH;FMTTYPE=image/jpeg:https://libertybiblechurchky.org/wp-content/uploads/biblical-doctrine_1600x900.jpg
END:VEVENT
BEGIN:VEVENT
DTSTART;TZID=America/Kentucky/Louisville:20260723T190000
DTEND;TZID=America/Kentucky/Louisville:20260723T200000
DTSTAMP:20260424T181958
CREATED:20220922T020346Z
LAST-MODIFIED:20251111T214459Z
UID:10000939-1784833200-1784836800@libertybiblechurchky.org
SUMMARY:Men and Boys’ Bible Study
DESCRIPTION:We continue our study in Biblical Doctrine. All ages of men and boys are welcome.
URL:https://libertybiblechurchky.org/event/men-and-boys-bible-study/2026-07-23/
LOCATION:Liberty Bible Church\, 115 South Main Street\, Crittenden\, KY\, 41030\, United States
CATEGORIES:Men and Boys
ATTACH;FMTTYPE=image/jpeg:https://libertybiblechurchky.org/wp-content/uploads/biblical-doctrine_1600x900.jpg
END:VEVENT
BEGIN:VEVENT
DTSTART;TZID=America/Kentucky/Louisville:20260806T190000
DTEND;TZID=America/Kentucky/Louisville:20260806T200000
DTSTAMP:20260424T181958
CREATED:20220922T020346Z
LAST-MODIFIED:20251111T214459Z
UID:10000940-1786042800-1786046400@libertybiblechurchky.org
SUMMARY:Men and Boys’ Bible Study
DESCRIPTION:We continue our study in Biblical Doctrine. All ages of men and boys are welcome.
URL:https://libertybiblechurchky.org/event/men-and-boys-bible-study/2026-08-06/
LOCATION:Liberty Bible Church\, 115 South Main Street\, Crittenden\, KY\, 41030\, United States
CATEGORIES:Men and Boys
ATTACH;FMTTYPE=image/jpeg:https://libertybiblechurchky.org/wp-content/uploads/biblical-doctrine_1600x900.jpg
END:VEVENT
BEGIN:VEVENT
DTSTART;TZID=America/Kentucky/Louisville:20260820T190000
DTEND;TZID=America/Kentucky/Louisville:20260820T200000
DTSTAMP:20260424T181958
CREATED:20220922T020346Z
LAST-MODIFIED:20251111T214459Z
UID:10000941-1787252400-1787256000@libertybiblechurchky.org
SUMMARY:Men and Boys’ Bible Study
DESCRIPTION:We continue our study in Biblical Doctrine. All ages of men and boys are welcome.
URL:https://libertybiblechurchky.org/event/men-and-boys-bible-study/2026-08-20/
LOCATION:Liberty Bible Church\, 115 South Main Street\, Crittenden\, KY\, 41030\, United States
CATEGORIES:Men and Boys
ATTACH;FMTTYPE=image/jpeg:https://libertybiblechurchky.org/wp-content/uploads/biblical-doctrine_1600x900.jpg
END:VEVENT
BEGIN:VEVENT
DTSTART;TZID=America/Kentucky/Louisville:20260903T190000
DTEND;TZID=America/Kentucky/Louisville:20260903T200000
DTSTAMP:20260424T181958
CREATED:20220922T020346Z
LAST-MODIFIED:20251111T214459Z
UID:10000942-1788462000-1788465600@libertybiblechurchky.org
SUMMARY:Men and Boys’ Bible Study
DESCRIPTION:We continue our study in Biblical Doctrine. All ages of men and boys are welcome.
URL:https://libertybiblechurchky.org/event/men-and-boys-bible-study/2026-09-03/
LOCATION:Liberty Bible Church\, 115 South Main Street\, Crittenden\, KY\, 41030\, United States
CATEGORIES:Men and Boys
ATTACH;FMTTYPE=image/jpeg:https://libertybiblechurchky.org/wp-content/uploads/biblical-doctrine_1600x900.jpg
END:VEVENT
BEGIN:VEVENT
DTSTART;TZID=America/Kentucky/Louisville:20260917T190000
DTEND;TZID=America/Kentucky/Louisville:20260917T200000
DTSTAMP:20260424T181958
CREATED:20220922T020346Z
LAST-MODIFIED:20251111T214459Z
UID:10000943-1789671600-1789675200@libertybiblechurchky.org
SUMMARY:Men and Boys’ Bible Study
DESCRIPTION:We continue our study in Biblical Doctrine. All ages of men and boys are welcome.
URL:https://libertybiblechurchky.org/event/men-and-boys-bible-study/2026-09-17/
LOCATION:Liberty Bible Church\, 115 South Main Street\, Crittenden\, KY\, 41030\, United States
CATEGORIES:Men and Boys
ATTACH;FMTTYPE=image/jpeg:https://libertybiblechurchky.org/wp-content/uploads/biblical-doctrine_1600x900.jpg
END:VEVENT
BEGIN:VEVENT
DTSTART;TZID=America/Kentucky/Louisville:20261001T190000
DTEND;TZID=America/Kentucky/Louisville:20261001T200000
DTSTAMP:20260424T181958
CREATED:20220922T020346Z
LAST-MODIFIED:20251111T214459Z
UID:10000944-1790881200-1790884800@libertybiblechurchky.org
SUMMARY:Men and Boys’ Bible Study
DESCRIPTION:We continue our study in Biblical Doctrine. All ages of men and boys are welcome.
URL:https://libertybiblechurchky.org/event/men-and-boys-bible-study/2026-10-01/
LOCATION:Liberty Bible Church\, 115 South Main Street\, Crittenden\, KY\, 41030\, United States
CATEGORIES:Men and Boys
ATTACH;FMTTYPE=image/jpeg:https://libertybiblechurchky.org/wp-content/uploads/biblical-doctrine_1600x900.jpg
END:VEVENT
BEGIN:VEVENT
DTSTART;TZID=America/Kentucky/Louisville:20261015T190000
DTEND;TZID=America/Kentucky/Louisville:20261015T200000
DTSTAMP:20260424T181958
CREATED:20220922T020346Z
LAST-MODIFIED:20251111T214459Z
UID:10000945-1792090800-1792094400@libertybiblechurchky.org
SUMMARY:Men and Boys’ Bible Study
DESCRIPTION:We continue our study in Biblical Doctrine. All ages of men and boys are welcome.
URL:https://libertybiblechurchky.org/event/men-and-boys-bible-study/2026-10-15/
LOCATION:Liberty Bible Church\, 115 South Main Street\, Crittenden\, KY\, 41030\, United States
CATEGORIES:Men and Boys
ATTACH;FMTTYPE=image/jpeg:https://libertybiblechurchky.org/wp-content/uploads/biblical-doctrine_1600x900.jpg
END:VEVENT
BEGIN:VEVENT
DTSTART;TZID=America/Kentucky/Louisville:20261029T190000
DTEND;TZID=America/Kentucky/Louisville:20261029T200000
DTSTAMP:20260424T181958
CREATED:20220922T020346Z
LAST-MODIFIED:20251111T214459Z
UID:10000946-1793300400-1793304000@libertybiblechurchky.org
SUMMARY:Men and Boys’ Bible Study
DESCRIPTION:We continue our study in Biblical Doctrine. All ages of men and boys are welcome.
URL:https://libertybiblechurchky.org/event/men-and-boys-bible-study/2026-10-29/
LOCATION:Liberty Bible Church\, 115 South Main Street\, Crittenden\, KY\, 41030\, United States
CATEGORIES:Men and Boys
ATTACH;FMTTYPE=image/jpeg:https://libertybiblechurchky.org/wp-content/uploads/biblical-doctrine_1600x900.jpg
END:VEVENT
BEGIN:VEVENT
DTSTART;TZID=America/Kentucky/Louisville:20261112T190000
DTEND;TZID=America/Kentucky/Louisville:20261112T200000
DTSTAMP:20260424T181958
CREATED:20220922T020346Z
LAST-MODIFIED:20251111T214459Z
UID:10000947-1794510000-1794513600@libertybiblechurchky.org
SUMMARY:Men and Boys’ Bible Study
DESCRIPTION:We continue our study in Biblical Doctrine. All ages of men and boys are welcome.
URL:https://libertybiblechurchky.org/event/men-and-boys-bible-study/2026-11-12/
LOCATION:Liberty Bible Church\, 115 South Main Street\, Crittenden\, KY\, 41030\, United States
CATEGORIES:Men and Boys
ATTACH;FMTTYPE=image/jpeg:https://libertybiblechurchky.org/wp-content/uploads/biblical-doctrine_1600x900.jpg
END:VEVENT
BEGIN:VEVENT
DTSTART;TZID=America/Kentucky/Louisville:20261126T190000
DTEND;TZID=America/Kentucky/Louisville:20261126T200000
DTSTAMP:20260424T181958
CREATED:20220922T020346Z
LAST-MODIFIED:20251111T214459Z
UID:10000948-1795719600-1795723200@libertybiblechurchky.org
SUMMARY:Men and Boys’ Bible Study
DESCRIPTION:We continue our study in Biblical Doctrine. All ages of men and boys are welcome.
URL:https://libertybiblechurchky.org/event/men-and-boys-bible-study/2026-11-26/
LOCATION:Liberty Bible Church\, 115 South Main Street\, Crittenden\, KY\, 41030\, United States
CATEGORIES:Men and Boys
ATTACH;FMTTYPE=image/jpeg:https://libertybiblechurchky.org/wp-content/uploads/biblical-doctrine_1600x900.jpg
END:VEVENT
BEGIN:VEVENT
DTSTART;TZID=America/Kentucky/Louisville:20261210T190000
DTEND;TZID=America/Kentucky/Louisville:20261210T200000
DTSTAMP:20260424T181958
CREATED:20220922T020346Z
LAST-MODIFIED:20251111T214459Z
UID:10000949-1796929200-1796932800@libertybiblechurchky.org
SUMMARY:Men and Boys’ Bible Study
DESCRIPTION:We continue our study in Biblical Doctrine. All ages of men and boys are welcome.
URL:https://libertybiblechurchky.org/event/men-and-boys-bible-study/2026-12-10/
LOCATION:Liberty Bible Church\, 115 South Main Street\, Crittenden\, KY\, 41030\, United States
CATEGORIES:Men and Boys
ATTACH;FMTTYPE=image/jpeg:https://libertybiblechurchky.org/wp-content/uploads/biblical-doctrine_1600x900.jpg
END:VEVENT
BEGIN:VEVENT
DTSTART;TZID=America/Kentucky/Louisville:20261224T190000
DTEND;TZID=America/Kentucky/Louisville:20261224T200000
DTSTAMP:20260424T181958
CREATED:20220922T020346Z
LAST-MODIFIED:20251111T214459Z
UID:10000950-1798138800-1798142400@libertybiblechurchky.org
SUMMARY:Men and Boys’ Bible Study
DESCRIPTION:We continue our study in Biblical Doctrine. All ages of men and boys are welcome.
URL:https://libertybiblechurchky.org/event/men-and-boys-bible-study/2026-12-24/
LOCATION:Liberty Bible Church\, 115 South Main Street\, Crittenden\, KY\, 41030\, United States
CATEGORIES:Men and Boys
ATTACH;FMTTYPE=image/jpeg:https://libertybiblechurchky.org/wp-content/uploads/biblical-doctrine_1600x900.jpg
END:VEVENT
BEGIN:VEVENT
DTSTART;TZID=America/Kentucky/Louisville:20270107T190000
DTEND;TZID=America/Kentucky/Louisville:20270107T200000
DTSTAMP:20260424T181958
CREATED:20220922T020346Z
LAST-MODIFIED:20251111T214459Z
UID:10000951-1799348400-1799352000@libertybiblechurchky.org
SUMMARY:Men and Boys’ Bible Study
DESCRIPTION:We continue our study in Biblical Doctrine. All ages of men and boys are welcome.
URL:https://libertybiblechurchky.org/event/men-and-boys-bible-study/2027-01-07/
LOCATION:Liberty Bible Church\, 115 South Main Street\, Crittenden\, KY\, 41030\, United States
CATEGORIES:Men and Boys
ATTACH;FMTTYPE=image/jpeg:https://libertybiblechurchky.org/wp-content/uploads/biblical-doctrine_1600x900.jpg
END:VEVENT
BEGIN:VEVENT
DTSTART;TZID=America/Kentucky/Louisville:20270121T190000
DTEND;TZID=America/Kentucky/Louisville:20270121T200000
DTSTAMP:20260424T181958
CREATED:20220922T020346Z
LAST-MODIFIED:20251111T214459Z
UID:10000952-1800558000-1800561600@libertybiblechurchky.org
SUMMARY:Men and Boys’ Bible Study
DESCRIPTION:We continue our study in Biblical Doctrine. All ages of men and boys are welcome.
URL:https://libertybiblechurchky.org/event/men-and-boys-bible-study/2027-01-21/
LOCATION:Liberty Bible Church\, 115 South Main Street\, Crittenden\, KY\, 41030\, United States
CATEGORIES:Men and Boys
ATTACH;FMTTYPE=image/jpeg:https://libertybiblechurchky.org/wp-content/uploads/biblical-doctrine_1600x900.jpg
END:VEVENT
BEGIN:VEVENT
DTSTART;TZID=America/Kentucky/Louisville:20270204T190000
DTEND;TZID=America/Kentucky/Louisville:20270204T200000
DTSTAMP:20260424T181958
CREATED:20220922T020346Z
LAST-MODIFIED:20251111T214459Z
UID:10000953-1801767600-1801771200@libertybiblechurchky.org
SUMMARY:Men and Boys’ Bible Study
DESCRIPTION:We continue our study in Biblical Doctrine. All ages of men and boys are welcome.
URL:https://libertybiblechurchky.org/event/men-and-boys-bible-study/2027-02-04/
LOCATION:Liberty Bible Church\, 115 South Main Street\, Crittenden\, KY\, 41030\, United States
CATEGORIES:Men and Boys
ATTACH;FMTTYPE=image/jpeg:https://libertybiblechurchky.org/wp-content/uploads/biblical-doctrine_1600x900.jpg
END:VEVENT
BEGIN:VEVENT
DTSTART;TZID=America/Kentucky/Louisville:20270218T190000
DTEND;TZID=America/Kentucky/Louisville:20270218T200000
DTSTAMP:20260424T181958
CREATED:20220922T020346Z
LAST-MODIFIED:20251111T214459Z
UID:10000954-1802977200-1802980800@libertybiblechurchky.org
SUMMARY:Men and Boys’ Bible Study
DESCRIPTION:We continue our study in Biblical Doctrine. All ages of men and boys are welcome.
URL:https://libertybiblechurchky.org/event/men-and-boys-bible-study/2027-02-18/
LOCATION:Liberty Bible Church\, 115 South Main Street\, Crittenden\, KY\, 41030\, United States
CATEGORIES:Men and Boys
ATTACH;FMTTYPE=image/jpeg:https://libertybiblechurchky.org/wp-content/uploads/biblical-doctrine_1600x900.jpg
END:VEVENT
BEGIN:VEVENT
DTSTART;TZID=America/Kentucky/Louisville:20270304T190000
DTEND;TZID=America/Kentucky/Louisville:20270304T200000
DTSTAMP:20260424T181958
CREATED:20220922T020346Z
LAST-MODIFIED:20251111T214459Z
UID:10000955-1804186800-1804190400@libertybiblechurchky.org
SUMMARY:Men and Boys’ Bible Study
DESCRIPTION:We continue our study in Biblical Doctrine. All ages of men and boys are welcome.
URL:https://libertybiblechurchky.org/event/men-and-boys-bible-study/2027-03-04/
LOCATION:Liberty Bible Church\, 115 South Main Street\, Crittenden\, KY\, 41030\, United States
CATEGORIES:Men and Boys
ATTACH;FMTTYPE=image/jpeg:https://libertybiblechurchky.org/wp-content/uploads/biblical-doctrine_1600x900.jpg
END:VEVENT
BEGIN:VEVENT
DTSTART;TZID=America/Kentucky/Louisville:20270318T190000
DTEND;TZID=America/Kentucky/Louisville:20270318T200000
DTSTAMP:20260424T181958
CREATED:20220922T020346Z
LAST-MODIFIED:20251111T214459Z
UID:10000956-1805396400-1805400000@libertybiblechurchky.org
SUMMARY:Men and Boys’ Bible Study
DESCRIPTION:We continue our study in Biblical Doctrine. All ages of men and boys are welcome.
URL:https://libertybiblechurchky.org/event/men-and-boys-bible-study/2027-03-18/
LOCATION:Liberty Bible Church\, 115 South Main Street\, Crittenden\, KY\, 41030\, United States
CATEGORIES:Men and Boys
ATTACH;FMTTYPE=image/jpeg:https://libertybiblechurchky.org/wp-content/uploads/biblical-doctrine_1600x900.jpg
END:VEVENT
BEGIN:VEVENT
DTSTART;TZID=America/Kentucky/Louisville:20270401T190000
DTEND;TZID=America/Kentucky/Louisville:20270401T200000
DTSTAMP:20260424T181958
CREATED:20220922T020346Z
LAST-MODIFIED:20251111T214459Z
UID:10000957-1806606000-1806609600@libertybiblechurchky.org
SUMMARY:Men and Boys’ Bible Study
DESCRIPTION:We continue our study in Biblical Doctrine. All ages of men and boys are welcome.
URL:https://libertybiblechurchky.org/event/men-and-boys-bible-study/2027-04-01/
LOCATION:Liberty Bible Church\, 115 South Main Street\, Crittenden\, KY\, 41030\, United States
CATEGORIES:Men and Boys
ATTACH;FMTTYPE=image/jpeg:https://libertybiblechurchky.org/wp-content/uploads/biblical-doctrine_1600x900.jpg
END:VEVENT
BEGIN:VEVENT
DTSTART;TZID=America/Kentucky/Louisville:20270415T190000
DTEND;TZID=America/Kentucky/Louisville:20270415T200000
DTSTAMP:20260424T181958
CREATED:20220922T020346Z
LAST-MODIFIED:20251111T214459Z
UID:10000958-1807815600-1807819200@libertybiblechurchky.org
SUMMARY:Men and Boys’ Bible Study
DESCRIPTION:We continue our study in Biblical Doctrine. All ages of men and boys are welcome.
URL:https://libertybiblechurchky.org/event/men-and-boys-bible-study/2027-04-15/
LOCATION:Liberty Bible Church\, 115 South Main Street\, Crittenden\, KY\, 41030\, United States
CATEGORIES:Men and Boys
ATTACH;FMTTYPE=image/jpeg:https://libertybiblechurchky.org/wp-content/uploads/biblical-doctrine_1600x900.jpg
END:VEVENT
BEGIN:VEVENT
DTSTART;TZID=America/Kentucky/Louisville:20270429T190000
DTEND;TZID=America/Kentucky/Louisville:20270429T200000
DTSTAMP:20260424T181958
CREATED:20220922T020346Z
LAST-MODIFIED:20251111T214459Z
UID:10000959-1809025200-1809028800@libertybiblechurchky.org
SUMMARY:Men and Boys’ Bible Study
DESCRIPTION:We continue our study in Biblical Doctrine. All ages of men and boys are welcome.
URL:https://libertybiblechurchky.org/event/men-and-boys-bible-study/2027-04-29/
LOCATION:Liberty Bible Church\, 115 South Main Street\, Crittenden\, KY\, 41030\, United States
CATEGORIES:Men and Boys
ATTACH;FMTTYPE=image/jpeg:https://libertybiblechurchky.org/wp-content/uploads/biblical-doctrine_1600x900.jpg
END:VEVENT
BEGIN:VEVENT
DTSTART;TZID=America/Kentucky/Louisville:20270513T190000
DTEND;TZID=America/Kentucky/Louisville:20270513T200000
DTSTAMP:20260424T181958
CREATED:20220922T020346Z
LAST-MODIFIED:20251111T214459Z
UID:10000960-1810234800-1810238400@libertybiblechurchky.org
SUMMARY:Men and Boys’ Bible Study
DESCRIPTION:We continue our study in Biblical Doctrine. All ages of men and boys are welcome.
URL:https://libertybiblechurchky.org/event/men-and-boys-bible-study/2027-05-13/
LOCATION:Liberty Bible Church\, 115 South Main Street\, Crittenden\, KY\, 41030\, United States
CATEGORIES:Men and Boys
ATTACH;FMTTYPE=image/jpeg:https://libertybiblechurchky.org/wp-content/uploads/biblical-doctrine_1600x900.jpg
END:VEVENT
BEGIN:VEVENT
DTSTART;TZID=America/Kentucky/Louisville:20270527T190000
DTEND;TZID=America/Kentucky/Louisville:20270527T200000
DTSTAMP:20260424T181958
CREATED:20220922T020346Z
LAST-MODIFIED:20251111T214459Z
UID:10000961-1811444400-1811448000@libertybiblechurchky.org
SUMMARY:Men and Boys’ Bible Study
DESCRIPTION:We continue our study in Biblical Doctrine. All ages of men and boys are welcome.
URL:https://libertybiblechurchky.org/event/men-and-boys-bible-study/2027-05-27/
LOCATION:Liberty Bible Church\, 115 South Main Street\, Crittenden\, KY\, 41030\, United States
CATEGORIES:Men and Boys
ATTACH;FMTTYPE=image/jpeg:https://libertybiblechurchky.org/wp-content/uploads/biblical-doctrine_1600x900.jpg
END:VEVENT
BEGIN:VEVENT
DTSTART;TZID=America/Kentucky/Louisville:20270610T190000
DTEND;TZID=America/Kentucky/Louisville:20270610T200000
DTSTAMP:20260424T181958
CREATED:20220922T020346Z
LAST-MODIFIED:20251111T214459Z
UID:10000962-1812654000-1812657600@libertybiblechurchky.org
SUMMARY:Men and Boys’ Bible Study
DESCRIPTION:We continue our study in Biblical Doctrine. All ages of men and boys are welcome.
URL:https://libertybiblechurchky.org/event/men-and-boys-bible-study/2027-06-10/
LOCATION:Liberty Bible Church\, 115 South Main Street\, Crittenden\, KY\, 41030\, United States
CATEGORIES:Men and Boys
ATTACH;FMTTYPE=image/jpeg:https://libertybiblechurchky.org/wp-content/uploads/biblical-doctrine_1600x900.jpg
END:VEVENT
END:VCALENDAR